BEGIN:VCALENDAR
VERSION:2.0
PRODID:-//Bullitt County Public Library - ECPv5.16.4//NONSGML v1.0//EN
CALSCALE:GREGORIAN
METHOD:PUBLISH
X-WR-CALNAME:Bullitt County Public Library
X-ORIGINAL-URL:https://bcplib.org
X-WR-CALDESC:Events for Bullitt County Public Library
BEGIN:VTIMEZONE
TZID:America/Kentucky/Louisville
BEGIN:DAYLIGHT
TZOFFSETFROM:-0500
TZOFFSETTO:-0400
TZNAME:EDT
DTSTART:20220313T070000
END:DAYLIGHT
BEGIN:STANDARD
TZOFFSETFROM:-0400
TZOFFSETTO:-0500
TZNAME:EST
DTSTART:20221106T060000
END:STANDARD
END:VTIMEZONE
BEGIN:VEVENT
DTSTART;TZID=America/Kentucky/Louisville:20220707T180000
DTEND;TZID=America/Kentucky/Louisville:20220707T184500
DTSTAMP:20260421T155156
CREATED:20220503T211748Z
LAST-MODIFIED:20220705T153735Z
UID:101976-1657216800-1657219500@bcplib.org
SUMMARY:Zumba
DESCRIPTION:**Please note: Due to the heat closure at Ridgway Memorial\, this event has been moved to the Community Wing at Central Library. The main section of the library will be closed.*\nMove to the rhythm… \nGet a full-body workout during this dance-fitness class with certified Zumba instructor Jasamine Curtis. Zumba is a high-energy workout program that combines Latin and international music with dance moves\, making exercise fun! Routines incorporate interval training—alternating fast and slow rhythms—to help improve cardiovascular fitness. \nPlease note: \n\nWear light clothing\, lace up your sneakers\, and get ready to groove! \nBottled water will be provided\, but you might want to bring your own towel. \nBefore you start any exercise program\, it is recommended that you check with your physician.\n\nAges 18 and up. Just drop in!\nSpace and will be available on a first-come\, first-served basis. Questions? E-mail Jenn at jennifer@bcplib.org. \n\nZUMBA SCHEDULE \n\n1st & 2nd Thursday* of the month\, 6:00–6:45 PM @Ridgway Memorial  BEGINS MAY 12th!!!\n\n3rd & 4th Thursday* of the month\, 7:00–7:45 PM @Hillview\n\n*PLEASE NOTE: Due to an instructor schedule conflict\, there will be no Zumba class on Thursday\, September 22nd.
URL:https://bcplib.org/event/zumba-rm-2022-07-07/2022-07-07/
LOCATION:Central Library\, 740 Conestoga Parkway\, Shepherdsville\, KY\, 40165\, United States
CATEGORIES:Adults
GEO:38.00114197470041;-85.70603443163063
X-APPLE-STRUCTURED-LOCATION;VALUE=URI;X-ADDRESS=Central Library 740 Conestoga Parkway Shepherdsville KY 40165 United States;X-APPLE-RADIUS=500;X-TITLE=740 Conestoga Parkway:geo:-85.70603443163063,38.00114197470041
END:VEVENT
END:VCALENDAR