BEGIN:VCALENDAR
VERSION:2.0
PRODID:-//Bullitt County Public Library - ECPv5.16.4//NONSGML v1.0//EN
CALSCALE:GREGORIAN
METHOD:PUBLISH
X-WR-CALNAME:Bullitt County Public Library
X-ORIGINAL-URL:https://bcplib.org
X-WR-CALDESC:Events for Bullitt County Public Library
BEGIN:VTIMEZONE
TZID:America/Kentucky/Louisville
BEGIN:DAYLIGHT
TZOFFSETFROM:-0500
TZOFFSETTO:-0400
TZNAME:EDT
DTSTART:20180311T070000
END:DAYLIGHT
BEGIN:STANDARD
TZOFFSETFROM:-0400
TZOFFSETTO:-0500
TZNAME:EST
DTSTART:20181104T060000
END:STANDARD
END:VTIMEZONE
BEGIN:VEVENT
DTSTART;TZID=America/Kentucky/Louisville:20181109T190000
DTEND;TZID=America/Kentucky/Louisville:20181109T210000
DTSTAMP:20260422T193722
CREATED:20181002T183159Z
LAST-MODIFIED:20181002T183343Z
UID:38358-1541790000-1541797200@bcplib.org
SUMMARY:Whiskey Tango: Rocking at the Library
DESCRIPTION:A concert at the library?! That’s right\, Whiskey Tango will be mixing it up after hours at Hillview Branch Library! \nWhiskey Tango is a three-piece group with a twist. From ’60s favorites to present-day hits\, Whiskey Tango performs music from a variety of genres\, including country\, classic rock\, and popular dance songs—and you can count on them to add some extra tracks to the mix to spice it up a bit. Notable artists they cover include Bruno Mars\, George Strait\, Bob Marley\, Jimmy Buffett\, and Michael Jackson. During their performance\, you’ll see them interacting with the audience using props\, hats\, costumes\, and maybe even a conga line. With Whiskey Tango\, it’s not just singing—it’s entertainment! \nThe performance will be held outside on the Pavilion stage. In case of rain or another weather-related issue\, the concert will move indoors to our meeting room. The show must go on! \nFor all ages. Just drop in!\nSeating will be available on a first-come\, first-served basis. Questions? E-mail mike@bcplib.org. \n  \n 
URL:https://bcplib.org/event/whiskey-tango-rocking-at-the-library/
LOCATION:Hillview Branch\, 155 Terry Boulevard\, Hillview\, KY\, 40229\, United States
CATEGORIES:Adults,Teens,Tweens,Kids,Family
ORGANIZER;CN="Mike":MAILTO:mike@bcplib.org
GEO:38.077247;-85.688966
X-APPLE-STRUCTURED-LOCATION;VALUE=URI;X-ADDRESS=Hillview Branch 155 Terry Boulevard Hillview KY 40229 United States;X-APPLE-RADIUS=500;X-TITLE=155 Terry Boulevard:geo:-85.688966,38.077247
END:VEVENT
END:VCALENDAR