BEGIN:VCALENDAR
VERSION:2.0
PRODID:-//Bullitt County Public Library - ECPv5.16.4//NONSGML v1.0//EN
CALSCALE:GREGORIAN
METHOD:PUBLISH
X-WR-CALNAME:Bullitt County Public Library
X-ORIGINAL-URL:https://bcplib.org
X-WR-CALDESC:Events for Bullitt County Public Library
BEGIN:VTIMEZONE
TZID:America/Kentucky/Louisville
BEGIN:DAYLIGHT
TZOFFSETFROM:-0500
TZOFFSETTO:-0400
TZNAME:EDT
DTSTART:20220313T070000
END:DAYLIGHT
BEGIN:STANDARD
TZOFFSETFROM:-0400
TZOFFSETTO:-0500
TZNAME:EST
DTSTART:20221106T060000
END:STANDARD
END:VTIMEZONE
BEGIN:VEVENT
DTSTART;TZID=America/Kentucky/Louisville:20220707T110000
DTEND;TZID=America/Kentucky/Louisville:20220707T120000
DTSTAMP:20260421T174719
CREATED:20220516T200945Z
LAST-MODIFIED:20220705T155732Z
UID:102260-1657191600-1657195200@bcplib.org
SUMMARY:Weekly Wonders: Ages 5–10
DESCRIPTION:**Please note: Due to the heat closure at Ridgway Memorial\, this event has been moved to the Community Wing at Central Library. The main section of the library will be closed.*\nExplore an ocean of possibilities… \nLearning doesn’t have to stop when school is out\, but it better be fun! This summer\, join us for a creative combination of storytelling\, crafts\, interactive STEAM learning\, and other fun activities. \nChildren are welcome to attend whichever session suits them best or to join their older/younger siblings. However: \n\nMorning sessions are geared toward kids ages 0–5.\nLate morning and afternoon sessions are geared toward elementary school ages (grades K–5).\n\nJust drop in! For children of all ages.\nSeating and craft supplies will be available on a first-come\, first-served basis. Questions? Call Ms. Laura or e-mail laura@bcplib.org.
URL:https://bcplib.org/event/weekly-wonders-rm-el-2022-07-07/2022-07-07/
LOCATION:Central Library\, 740 Conestoga Parkway\, Shepherdsville\, KY\, 40165\, United States
CATEGORIES:Tweens,Kids
GEO:38.00114197470041;-85.70603443163063
X-APPLE-STRUCTURED-LOCATION;VALUE=URI;X-ADDRESS=Central Library 740 Conestoga Parkway Shepherdsville KY 40165 United States;X-APPLE-RADIUS=500;X-TITLE=740 Conestoga Parkway:geo:-85.70603443163063,38.00114197470041
END:VEVENT
END:VCALENDAR