BEGIN:VCALENDAR
VERSION:2.0
PRODID:-//Bullitt County Public Library - ECPv5.16.4//NONSGML v1.0//EN
CALSCALE:GREGORIAN
METHOD:PUBLISH
X-WR-CALNAME:Bullitt County Public Library
X-ORIGINAL-URL:https://bcplib.org
X-WR-CALDESC:Events for Bullitt County Public Library
BEGIN:VTIMEZONE
TZID:America/Kentucky/Louisville
BEGIN:DAYLIGHT
TZOFFSETFROM:-0500
TZOFFSETTO:-0400
TZNAME:EDT
DTSTART:20220313T070000
END:DAYLIGHT
BEGIN:STANDARD
TZOFFSETFROM:-0400
TZOFFSETTO:-0500
TZNAME:EST
DTSTART:20221106T060000
END:STANDARD
END:VTIMEZONE
BEGIN:VEVENT
DTSTART;TZID=America/Kentucky/Louisville:20220622T110000
DTEND;TZID=America/Kentucky/Louisville:20220622T120000
DTSTAMP:20260421T192735
CREATED:20220516T203127Z
LAST-MODIFIED:20220608T172651Z
UID:102355-1655895600-1655899200@bcplib.org
SUMMARY:Weekly Wonders: Ages 5–10
DESCRIPTION:Explore an ocean of possibilities… \nLearning doesn’t have to stop when school is out\, but it better be fun! This summer\, join us for a creative combination of storytelling\, crafts\, interactive STEAM learning\, and other fun activities. \nChildren are welcome to attend whichever session suits them best or to join their older/younger siblings. However: \n\nMorning sessions are geared toward kids ages 0–5.\nLate morning and afternoon sessions are geared toward elementary school ages (grades K–5).\n\nJust drop in! For children of all ages.\nSeating and craft supplies will be available on a first-come\, first-served basis. Questions? Call Ms. Brandy or e-mail brandy@bcplib.org.
URL:https://bcplib.org/event/weekly-wonders-hl-el-2022-06-22/
LOCATION:Hillview Branch\, 155 Terry Boulevard\, Hillview\, KY\, 40229\, United States
CATEGORIES:Tweens,Kids
GEO:38.077247;-85.688966
X-APPLE-STRUCTURED-LOCATION;VALUE=URI;X-ADDRESS=Hillview Branch 155 Terry Boulevard Hillview KY 40229 United States;X-APPLE-RADIUS=500;X-TITLE=155 Terry Boulevard:geo:-85.688966,38.077247
END:VEVENT
END:VCALENDAR