BEGIN:VCALENDAR
VERSION:2.0
PRODID:-//Bullitt County Public Library - ECPv5.16.4//NONSGML v1.0//EN
CALSCALE:GREGORIAN
METHOD:PUBLISH
X-WR-CALNAME:Bullitt County Public Library
X-ORIGINAL-URL:https://bcplib.org
X-WR-CALDESC:Events for Bullitt County Public Library
BEGIN:VTIMEZONE
TZID:America/Kentucky/Louisville
BEGIN:DAYLIGHT
TZOFFSETFROM:-0500
TZOFFSETTO:-0400
TZNAME:EDT
DTSTART:20220313T070000
END:DAYLIGHT
BEGIN:STANDARD
TZOFFSETFROM:-0400
TZOFFSETTO:-0500
TZNAME:EST
DTSTART:20221106T060000
END:STANDARD
END:VTIMEZONE
BEGIN:VEVENT
DTSTART;TZID=America/Kentucky/Louisville:20220624T110000
DTEND;TZID=America/Kentucky/Louisville:20220624T120000
DTSTAMP:20260421T205901
CREATED:20220516T202839Z
LAST-MODIFIED:20220608T173354Z
UID:102340-1656068400-1656072000@bcplib.org
SUMMARY:Weekly Wonders: Ages 5–10
DESCRIPTION:Explore an ocean of possibilities… \nLearning doesn’t have to stop when school is out\, but it better be fun! This summer\, join us for a creative combination of storytelling\, crafts\, interactive STEAM learning\, and other fun activities. \nChildren are welcome to attend whichever session suits them best or to join their older/younger siblings. However: \n\nMorning sessions are geared toward kids ages 0–5.\nLate morning and afternoon sessions are geared toward elementary school ages (grades K–5).\n\nJust drop in! For children of all ages.\nSeating and craft supplies will be available on a first-come\, first-served basis. Questions? Call Ms. Jillian or e-mail jillian@bcplib.org.
URL:https://bcplib.org/event/weekly-wonders-ages-5-10-2022-06-24/
LOCATION:Lebanon Junction Branch\, 11382 S. Preston Highway\, Lebanon Junction\, KY\, 40150\, United States
CATEGORIES:Tweens,Kids
ORGANIZER;CN="Jillian":MAILTO:jillian@bcplib.org
GEO:37.8417678;-85.7287508
X-APPLE-STRUCTURED-LOCATION;VALUE=URI;X-ADDRESS=Lebanon Junction Branch 11382 S. Preston Highway Lebanon Junction KY 40150 United States;X-APPLE-RADIUS=500;X-TITLE=11382 S. Preston Highway:geo:-85.7287508,37.8417678
END:VEVENT
END:VCALENDAR