BEGIN:VCALENDAR
VERSION:2.0
PRODID:-//Bullitt County Public Library - ECPv5.16.4//NONSGML v1.0//EN
CALSCALE:GREGORIAN
METHOD:PUBLISH
X-WR-CALNAME:Bullitt County Public Library
X-ORIGINAL-URL:https://bcplib.org
X-WR-CALDESC:Events for Bullitt County Public Library
BEGIN:VTIMEZONE
TZID:America/Kentucky/Louisville
BEGIN:DAYLIGHT
TZOFFSETFROM:-0500
TZOFFSETTO:-0400
TZNAME:EDT
DTSTART:20190310T070000
END:DAYLIGHT
BEGIN:STANDARD
TZOFFSETFROM:-0400
TZOFFSETTO:-0500
TZNAME:EST
DTSTART:20191103T060000
END:STANDARD
END:VTIMEZONE
BEGIN:VEVENT
DTSTART;TZID=America/Kentucky/Louisville:20190123T170000
DTEND;TZID=America/Kentucky/Louisville:20190123T200000
DTSTAMP:20260421T190120
CREATED:20181210T185726Z
LAST-MODIFIED:20181210T190251Z
UID:42893-1548262800-1548273600@bcplib.org
SUMMARY:Weaving and Spinning\, Oh My!
DESCRIPTION:Explore a fun new hobby that will warm you up and keep you busy during the cold months of winter!\n \nJoin local textile artist Kim Upton as she starts us on the path to a new hobby—or two! Participants will create a handmade loom then start a simple project to learn the beginning skills of weaving. Plus\, enjoy a demonstration on how to spin your own yarn. \nPsst… Feel free to bring drinks or snacks to keep your energy up while you learn! \nFor ages 13 and up.\nRegistration is required for a select number of reserved seats. Additional seating may be available on a first-come\, first-served basis. Questions? E-mail gayle@bcplib.org.
URL:https://bcplib.org/event/weaving-and-spinning-oh-my-hl/
LOCATION:Hillview Branch\, 155 Terry Boulevard\, Hillview\, KY\, 40229\, United States
CATEGORIES:Adults,Teens
ORGANIZER;CN="Gayle":MAILTO:gayle@bcplib.org
GEO:38.077247;-85.688966
X-APPLE-STRUCTURED-LOCATION;VALUE=URI;X-ADDRESS=Hillview Branch 155 Terry Boulevard Hillview KY 40229 United States;X-APPLE-RADIUS=500;X-TITLE=155 Terry Boulevard:geo:-85.688966,38.077247
END:VEVENT
END:VCALENDAR