BEGIN:VCALENDAR
VERSION:2.0
PRODID:-//Bullitt County Public Library - ECPv5.16.4//NONSGML v1.0//EN
CALSCALE:GREGORIAN
METHOD:PUBLISH
X-WR-CALNAME:Bullitt County Public Library
X-ORIGINAL-URL:https://bcplib.org
X-WR-CALDESC:Events for Bullitt County Public Library
BEGIN:VTIMEZONE
TZID:America/Kentucky/Louisville
BEGIN:DAYLIGHT
TZOFFSETFROM:-0500
TZOFFSETTO:-0400
TZNAME:EDT
DTSTART:20220313T070000
END:DAYLIGHT
BEGIN:STANDARD
TZOFFSETFROM:-0400
TZOFFSETTO:-0500
TZNAME:EST
DTSTART:20221106T060000
END:STANDARD
END:VTIMEZONE
BEGIN:VEVENT
DTSTART;TZID=America/Kentucky/Louisville:20220731T140000
DTEND;TZID=America/Kentucky/Louisville:20220731T150000
DTSTAMP:20260421T133844
CREATED:20220601T211155Z
LAST-MODIFIED:20220706T140206Z
UID:102645-1659276000-1659279600@bcplib.org
SUMMARY:WAVE Tide Pool
DESCRIPTION:**Please note: This event will be hosted in the Community Wing at Central Library while the main library is still closed.**\nBring the kids for an up-close encounter with some amazing creatures! \nJoin the Newport Aquarium’s WAVE Foundation and their traveling Tide Pool to explore the fascinating habitats that form along rocky coastlines where the tides go in and out. Learn about the incredible ways sea urchins\, horseshoe crabs\, conchs\, and hermit crabs survive this dangerous environment\, plus meet a few of these heroic tide pool champions! \nFor the convenience of our patrons and to keep the crowd down for the safety of our SEA-riously amazing visitors\, we’ll have two sessions on July 31st\, with special Sunday hours at our Lebanon Junction location just for this event: \n\n11:30 AM–12:30 PM @Lebanon Junction\n2:00–3:00 PM @Central\n\nA Sunday Funday for all ages.\nJust drop in! For the safety of our visitors\, event capacity is limited to 125. Space will be available on a first-come\, first-served basis. Questions? Call Ms. Laura at 543-7675 ext. 2554 or e-mail laura@bcplib.org.
URL:https://bcplib.org/event/wave-tide-pool/
LOCATION:Central Library\, 740 Conestoga Parkway\, Shepherdsville\, KY\, 40165\, United States
CATEGORIES:Adults,Teens,Tweens,Kids,Family
GEO:38.00114197470041;-85.70603443163063
X-APPLE-STRUCTURED-LOCATION;VALUE=URI;X-ADDRESS=Central Library 740 Conestoga Parkway Shepherdsville KY 40165 United States;X-APPLE-RADIUS=500;X-TITLE=740 Conestoga Parkway:geo:-85.70603443163063,38.00114197470041
END:VEVENT
END:VCALENDAR