BEGIN:VCALENDAR
VERSION:2.0
PRODID:-//Bullitt County Public Library - ECPv5.16.4//NONSGML v1.0//EN
CALSCALE:GREGORIAN
METHOD:PUBLISH
X-WR-CALNAME:Bullitt County Public Library
X-ORIGINAL-URL:https://bcplib.org
X-WR-CALDESC:Events for Bullitt County Public Library
BEGIN:VTIMEZONE
TZID:America/Kentucky/Louisville
BEGIN:DAYLIGHT
TZOFFSETFROM:-0500
TZOFFSETTO:-0400
TZNAME:EDT
DTSTART:20180311T070000
END:DAYLIGHT
BEGIN:STANDARD
TZOFFSETFROM:-0400
TZOFFSETTO:-0500
TZNAME:EST
DTSTART:20181104T060000
END:STANDARD
END:VTIMEZONE
BEGIN:VEVENT
DTSTART;TZID=America/Kentucky/Louisville:20180416T180000
DTEND;TZID=America/Kentucky/Louisville:20180416T190000
DTSTAMP:20260422T024554
CREATED:20180117T171304Z
LAST-MODIFIED:20180411T151007Z
UID:23568-1523901600-1523905200@bcplib.org
SUMMARY:Wacky Weather: Tornadoes
DESCRIPTION:Join us to learn how COOL the weather can be through fun activities and experiments! \nJoin us for the third session of our Wacky Weather series\, where we’ll discuss tornadoes and learn how they work by creating tornadoes in bottles! \nWear old clothes—these experiments might get messy! \nFor ages 5–12.\nWe’re sorry\, but guaranteed registration for our March session is now closed. Additional seating will be available on a first-come\, first-served basis. You can still reserve your place for our April and May Wacky Weather events!\nQuestions or comments? Call Brandy at 543-7675 ext. 2555\, or e-mail brandy@bcplib.org. \n\nWe’re sorry\, but guaranteed registration for this event has closed.
URL:https://bcplib.org/event/wacky-weather-tornadoes/
LOCATION:Hillview Branch\, 155 Terry Boulevard\, Hillview\, KY\, 40229\, United States
CATEGORIES:Tweens,Kids
GEO:38.077247;-85.688966
X-APPLE-STRUCTURED-LOCATION;VALUE=URI;X-ADDRESS=Hillview Branch 155 Terry Boulevard Hillview KY 40229 United States;X-APPLE-RADIUS=500;X-TITLE=155 Terry Boulevard:geo:-85.688966,38.077247
END:VEVENT
END:VCALENDAR