BEGIN:VCALENDAR
VERSION:2.0
PRODID:-//Bullitt County Public Library - ECPv5.16.4//NONSGML v1.0//EN
CALSCALE:GREGORIAN
METHOD:PUBLISH
X-WR-CALNAME:Bullitt County Public Library
X-ORIGINAL-URL:https://bcplib.org
X-WR-CALDESC:Events for Bullitt County Public Library
BEGIN:VTIMEZONE
TZID:America/Kentucky/Louisville
BEGIN:DAYLIGHT
TZOFFSETFROM:-0500
TZOFFSETTO:-0400
TZNAME:EDT
DTSTART:20180311T070000
END:DAYLIGHT
BEGIN:STANDARD
TZOFFSETFROM:-0400
TZOFFSETTO:-0500
TZNAME:EST
DTSTART:20181104T060000
END:STANDARD
END:VTIMEZONE
BEGIN:VEVENT
DTSTART;TZID=America/Kentucky/Louisville:20180521T180000
DTEND;TZID=America/Kentucky/Louisville:20180521T190000
DTSTAMP:20260423T181451
CREATED:20180117T171426Z
LAST-MODIFIED:20180423T150804Z
UID:23626-1526925600-1526929200@bcplib.org
SUMMARY:Wacky Weather: Storms
DESCRIPTION:Join us to learn how COOL the weather can be through fun activities and experiments! \nIn the final session of our four-part series on Wacky Weather\, we’ll discuss rain storms and create a storm in a jar with shaving cream and glow-in-the-dark paint. \nWear old clothes—these experiments might get messy! \nFor ages 5–12. Registration is required for a select number of reserved seats. \nQuestions or comments? Call Brandy at 543-7675 ext. 2555\, or e-mail brandy@bcplib.org. \n\nWe’re sorry\, but guaranteed registration for this event has ended.
URL:https://bcplib.org/event/wacky-weather-storms/
LOCATION:Hillview Branch\, 155 Terry Boulevard\, Hillview\, KY\, 40229\, United States
CATEGORIES:Tweens,Kids
GEO:38.077247;-85.688966
X-APPLE-STRUCTURED-LOCATION;VALUE=URI;X-ADDRESS=Hillview Branch 155 Terry Boulevard Hillview KY 40229 United States;X-APPLE-RADIUS=500;X-TITLE=155 Terry Boulevard:geo:-85.688966,38.077247
END:VEVENT
END:VCALENDAR