BEGIN:VCALENDAR
VERSION:2.0
PRODID:-//Bullitt County Public Library - ECPv5.16.4//NONSGML v1.0//EN
CALSCALE:GREGORIAN
METHOD:PUBLISH
X-WR-CALNAME:Bullitt County Public Library
X-ORIGINAL-URL:https://bcplib.org
X-WR-CALDESC:Events for Bullitt County Public Library
BEGIN:VTIMEZONE
TZID:America/Kentucky/Louisville
BEGIN:DAYLIGHT
TZOFFSETFROM:-0500
TZOFFSETTO:-0400
TZNAME:EDT
DTSTART:20210314T070000
END:DAYLIGHT
BEGIN:STANDARD
TZOFFSETFROM:-0400
TZOFFSETTO:-0500
TZNAME:EST
DTSTART:20211107T060000
END:STANDARD
END:VTIMEZONE
BEGIN:VEVENT
DTSTART;TZID=America/Kentucky/Louisville:20210306T160000
DTEND;TZID=America/Kentucky/Louisville:20210306T161000
DTSTAMP:20260423T122937
CREATED:20210226T184623Z
LAST-MODIFIED:20210320T182534Z
UID:92358-1615046400-1615047000@bcplib.org
SUMMARY:Wacky Science
DESCRIPTION:Get ready for some hands-on science that will blow your mind!  \nUsing simple household items and your inner investigator\, follow along with Atom Angel to conduct some amazing experiments! Plus\, stay tuned for special guest appearances from Beaker Brandy\, Dr. Minerva\, and more. \nFor ages 8–12.\nWatch and experiment from the comfort of home via BCPL’s main Facebook page. Can’t make it on Saturday afternoons? That’s fine\, too. Videos will remain online to view\, share\, and enjoy. Find them on Facebook or YouTube! \nQuestions? E-mail angel@bcplib.org
URL:https://bcplib.org/event/wacky-science/2021-03-06/
LOCATION:BCPL on Facebook
CATEGORIES:Tweens,Kids,Family
ORGANIZER;CN="Angel":MAILTO:angel@bcplib.org
END:VEVENT
END:VCALENDAR