BEGIN:VCALENDAR
VERSION:2.0
PRODID:-//Bullitt County Public Library - ECPv5.16.4//NONSGML v1.0//EN
CALSCALE:GREGORIAN
METHOD:PUBLISH
X-WR-CALNAME:Bullitt County Public Library
X-ORIGINAL-URL:https://bcplib.org
X-WR-CALDESC:Events for Bullitt County Public Library
BEGIN:VTIMEZONE
TZID:America/Kentucky/Louisville
BEGIN:DAYLIGHT
TZOFFSETFROM:-0500
TZOFFSETTO:-0400
TZNAME:EDT
DTSTART:20220313T070000
END:DAYLIGHT
BEGIN:STANDARD
TZOFFSETFROM:-0400
TZOFFSETTO:-0500
TZNAME:EST
DTSTART:20221106T060000
END:STANDARD
END:VTIMEZONE
BEGIN:VEVENT
DTSTART;TZID=America/Kentucky/Louisville:20220620T130000
DTEND;TZID=America/Kentucky/Louisville:20220620T140000
DTSTAMP:20260421T203836
CREATED:20220613T134220Z
LAST-MODIFIED:20220618T160556Z
UID:102798-1655730000-1655733600@bcplib.org
SUMMARY:Turtle Steps
DESCRIPTION:Let’s shell-ebrate summer… \nAdd a colorful bit of whimsy to your yard or garden! Join us to paint a mosaic-inspired turtle stepping stone to make your outdoor space especially fun this summer. \nJust drop in! For children of all ages.\nSeating and craft supplies will be available on a first-come\, first-served basis. Questions? Call Ms. Angel at 543-7675 ext 2556 or e-mail angel@bcplib.org.
URL:https://bcplib.org/event/turtle-stone-mw/
LOCATION:Mt. Washington Branch\, 214 N. Bardstown Road\, Mt. Washington\, KY\, 40047\, United States
CATEGORIES:Tweens,Kids
ORGANIZER;CN="Angel":MAILTO:angel@bcplib.org
GEO:38.0492119;-85.5430434
X-APPLE-STRUCTURED-LOCATION;VALUE=URI;X-ADDRESS=Mt. Washington Branch 214 N. Bardstown Road Mt. Washington KY 40047 United States;X-APPLE-RADIUS=500;X-TITLE=214 N. Bardstown Road:geo:-85.5430434,38.0492119
END:VEVENT
END:VCALENDAR