BEGIN:VCALENDAR
VERSION:2.0
PRODID:-//Bullitt County Public Library - ECPv5.16.4//NONSGML v1.0//EN
CALSCALE:GREGORIAN
METHOD:PUBLISH
X-WR-CALNAME:Bullitt County Public Library
X-ORIGINAL-URL:https://bcplib.org
X-WR-CALDESC:Events for Bullitt County Public Library
BEGIN:VTIMEZONE
TZID:America/Kentucky/Louisville
BEGIN:DAYLIGHT
TZOFFSETFROM:-0500
TZOFFSETTO:-0400
TZNAME:EDT
DTSTART:20180311T070000
END:DAYLIGHT
BEGIN:STANDARD
TZOFFSETFROM:-0400
TZOFFSETTO:-0500
TZNAME:EST
DTSTART:20181104T060000
END:STANDARD
END:VTIMEZONE
BEGIN:VEVENT
DTSTART;TZID=America/Kentucky/Louisville:20181108T160000
DTEND;TZID=America/Kentucky/Louisville:20181108T170000
DTSTAMP:20260423T032312
CREATED:20180820T155140Z
LAST-MODIFIED:20181023T205421Z
UID:35919-1541692800-1541696400@bcplib.org
SUMMARY:Teen Planning Committee
DESCRIPTION:Join forces with other cool teens and our awesome Teen Services team to help plan big events\, suggest new teen programs\, and recommend books and movies for our collection. Plus\, you can learn about library careers and even earn volunteer hours for school! \nFor middle & high school ages.\nJust drop in on the 2nd Thursday of the month! Seating will be available on a first-come\, first-served basis. Questions? E-mail steven@bcplib.org. \n\nUpcoming events with the Teen Planning Committee include:\nTUESDAY\, OCTOBER 30th: Halloween Comedy Movie Night\n@ Ridgway Memorial\, Hillview & Mt. Washington\nGet ready to laugh at a scary movie! Come watch Killer Klowns from Outer Space (rated PG-13). Candy and snacks will be provided. Ages 13 and up. \nTUESDAY\, NOVEMBER 8th: Pajama Movie Night\n@  Ridgway Memorial\nWe’ll have some regular planning time on our regular meeting date\, then at 5:00 prepare for a movie! Get comfy in your jammies and head to the library for a special showing of The Avengers (rated PG-13)! Free drinks and snacks will be provided. Ages 13 and up. \nTUESDAY\, NOVEMBER 27th: Pajama Movie Night\n@ Hillview & Mt. Washington\nGet comfy in your jammies and head to the library for a special showing of The Avengers (rated PG-13)! Free drinks and snacks will be provided. Ages 13 and up.
URL:https://bcplib.org/event/tpc-rm-2018-11-08/
LOCATION:Ridgway Memorial Library\, 127 N. Walnut Street\, Shepherdsville\, KY\, 40165\, United States
CATEGORIES:Teens,Tweens
ORGANIZER;CN="Steven":MAILTO:steven@bcplib.org
GEO:38.001133520394;-85.706045160467
X-APPLE-STRUCTURED-LOCATION;VALUE=URI;X-ADDRESS=Ridgway Memorial Library 127 N. Walnut Street Shepherdsville KY 40165 United States;X-APPLE-RADIUS=500;X-TITLE=127 N. Walnut Street:geo:-85.706045160467,38.001133520394
END:VEVENT
END:VCALENDAR