BEGIN:VCALENDAR
VERSION:2.0
PRODID:-//Bullitt County Public Library - ECPv5.16.4//NONSGML v1.0//EN
CALSCALE:GREGORIAN
METHOD:PUBLISH
X-WR-CALNAME:Bullitt County Public Library
X-ORIGINAL-URL:https://bcplib.org
X-WR-CALDESC:Events for Bullitt County Public Library
BEGIN:VTIMEZONE
TZID:America/Kentucky/Louisville
BEGIN:DAYLIGHT
TZOFFSETFROM:-0500
TZOFFSETTO:-0400
TZNAME:EDT
DTSTART:20190310T070000
END:DAYLIGHT
BEGIN:STANDARD
TZOFFSETFROM:-0400
TZOFFSETTO:-0500
TZNAME:EST
DTSTART:20191103T060000
END:STANDARD
END:VTIMEZONE
BEGIN:VEVENT
DTSTART;TZID=America/Kentucky/Louisville:20190903T093000
DTEND;TZID=America/Kentucky/Louisville:20190903T100000
DTSTAMP:20260424T014942
CREATED:20190701T195313Z
LAST-MODIFIED:20190702T135519Z
UID:56862-1567503000-1567504800@bcplib.org
SUMMARY:Toddler Time
DESCRIPTION:Toddler Time returns to Mt. Washington Branch Library on Tuesday\, August 20th! \nToddler Time for ages 0 to 2 is designed to help lay the foundation for lifelong learning through a combination of stories\, songs\, and play. Children learn language by listening to others talk\, and stories and songs help them learn how language sounds\, add new words to their growing vocabulary\, and begin to understand what words mean. Play helps children express themselves and put thoughts into words as they explore the world around them and build early social skills through interactions with other children. \nJoin us to help your little one start their early-learning adventure! \n\nTuesday Toddler Time at Mt. Washington\n\n\n\nAUGUST\n\n20th: Welcome\n27th: Shark Week\n\n\n\n\nSEPTEMBER\n\n3rd: Grandparents\n10th: Bugs\, Bugs\, Bugs!\n\n17th: Talk Like a Pirate\n24th: Happy Fall\, Y’all!\n\n\n\nOCTOBER\n\n1st: Pumpkins Galore!\n8th: Dig\, Push\, Haul!\n15th: TBD\n22nd: Halloween\n29th: Trick or Treat Party\n\n\n\nNOVEMBER\n\n5th: Getting Squirrelly!\n12th: Leaves\, Leaves\, Everywhere!\n19th: Family\n27th: Happy Thanksgiving!\n\n\n\n\n\nToddler Time is offered weekly at each BCPL location. Can’t make it to Mt. Washington on Tuesdays? Consider attending on Wednesdays at Hillview\, on Thursdays at Ridgway Memorial\, or on Fridays at Lebanon Junction. A parent or caregiver must remain with the child at all times. \nRegistration is required for a select number of reserved seats.\nQuestions? Call Ms. Angel ext. 2556 or e-mail angel@bcplib.org.
URL:https://bcplib.org/event/toddler-time-6-2019-09-03/
LOCATION:Mt. Washington Branch\, 214 N. Bardstown Road\, Mt. Washington\, KY\, 40047\, United States
CATEGORIES:Kids
ORGANIZER;CN="Angel":MAILTO:angel@bcplib.org
GEO:38.0492119;-85.5430434
X-APPLE-STRUCTURED-LOCATION;VALUE=URI;X-ADDRESS=Mt. Washington Branch 214 N. Bardstown Road Mt. Washington KY 40047 United States;X-APPLE-RADIUS=500;X-TITLE=214 N. Bardstown Road:geo:-85.5430434,38.0492119
END:VEVENT
END:VCALENDAR