BEGIN:VCALENDAR
VERSION:2.0
PRODID:-//Bullitt County Public Library - ECPv5.16.4//NONSGML v1.0//EN
CALSCALE:GREGORIAN
METHOD:PUBLISH
X-WR-CALNAME:Bullitt County Public Library
X-ORIGINAL-URL:https://bcplib.org
X-WR-CALDESC:Events for Bullitt County Public Library
BEGIN:VTIMEZONE
TZID:America/Kentucky/Louisville
BEGIN:DAYLIGHT
TZOFFSETFROM:-0500
TZOFFSETTO:-0400
TZNAME:EDT
DTSTART:20180311T070000
END:DAYLIGHT
BEGIN:STANDARD
TZOFFSETFROM:-0400
TZOFFSETTO:-0500
TZNAME:EST
DTSTART:20181104T060000
END:STANDARD
END:VTIMEZONE
BEGIN:VEVENT
DTSTART;TZID=America/Kentucky/Louisville:20180112T093000
DTEND;TZID=America/Kentucky/Louisville:20180112T100000
DTSTAMP:20260422T181024
CREATED:20170327T163944Z
LAST-MODIFIED:20180112T010232Z
UID:7156-1515749400-1515751200@bcplib.org
SUMMARY:CANCELED | Toddler Storytime
DESCRIPTION:Toddler Storytime is a FREE program for children ages Birth to 2. We sing\, read stories\,and play\, all while teaching young children early literacy and social skills. \nA parent or caregiver must remain with the child at all times. \nRegistration required. \nQuestions? Call Ms. Angel ext. 2556 or e-mail angel@bcplib.org.
URL:https://bcplib.org/event/toddler-storytime-mw-2018-01-12/
LOCATION:Mt. Washington Branch\, 214 N. Bardstown Road\, Mt. Washington\, KY\, 40047\, United States
CATEGORIES:Kids
ORGANIZER;CN="Angel":MAILTO:angel@bcplib.org
GEO:38.0492119;-85.5430434
X-APPLE-STRUCTURED-LOCATION;VALUE=URI;X-ADDRESS=Mt. Washington Branch 214 N. Bardstown Road Mt. Washington KY 40047 United States;X-APPLE-RADIUS=500;X-TITLE=214 N. Bardstown Road:geo:-85.5430434,38.0492119
END:VEVENT
END:VCALENDAR