BEGIN:VCALENDAR
VERSION:2.0
PRODID:-//Bullitt County Public Library - ECPv5.16.4//NONSGML v1.0//EN
CALSCALE:GREGORIAN
METHOD:PUBLISH
X-WR-CALNAME:Bullitt County Public Library
X-ORIGINAL-URL:https://bcplib.org
X-WR-CALDESC:Events for Bullitt County Public Library
BEGIN:VTIMEZONE
TZID:America/Kentucky/Louisville
BEGIN:DAYLIGHT
TZOFFSETFROM:-0500
TZOFFSETTO:-0400
TZNAME:EDT
DTSTART:20210314T070000
END:DAYLIGHT
BEGIN:STANDARD
TZOFFSETFROM:-0400
TZOFFSETTO:-0500
TZNAME:EST
DTSTART:20211107T060000
END:STANDARD
END:VTIMEZONE
BEGIN:VEVENT
DTSTART;TZID=America/Kentucky/Louisville:20210115T200000
DTEND;TZID=America/Kentucky/Louisville:20210115T213000
DTSTAMP:20260423T122504
CREATED:20201221T010146Z
LAST-MODIFIED:20201221T010606Z
UID:91836-1610740800-1610746200@bcplib.org
SUMMARY:The Bluegrass Bigfoot—LIVE!
DESCRIPTION:Join Charlie Raymond\, founder of the Kentucky Bigfoot Research Organization\, to explore the latest evidence and hear eyewitness testimonies in the case for the Bluegrass Bigfoot. Interactive Q&A to follow. \nABOUT THE PRESENTER | WEBSITE\nCharlie founded the Kentucky Bigfoot Research Organization in 1997. Throughout his many years researching Bigfoots in Kentucky\, Charlie has led private and public investigations and documented over 300 encounters. Along with appearing on Animal Planet\, the History Channel\, and BBC\, he recently published his first book\, Bluegrass Bigfoot: Encounters with the Kentucky Wildman. \nENJOY YOUR WAY\nWatch or ask questions your way! Join us for a LIVE-feed presentation and discussion on our Facebook page\, or join with the public Zoom link. \nView Zoom Join InvitationTopic: Bluegrass Bigfoot\nTime: Jan 15\, 2021 07:30 PM Eastern Time (US and Canada)\n(The official presentation will begin at 8:00 PM.) \nJoin Zoom Meeting\nhttps://us02web.zoom.us/j/81705978056 \nMeeting ID: 817 0597 8056\nPasscode: 690011\nOne tap mobile\n+13126266799\,\,81705978056#\,\,\,\,\,\,0#\,\,690011# US (Chicago)\n+16465588656\,\,81705978056#\,\,\,\,\,\,0#\,\,690011# US (New York) \nDial by your location\n+1 312 626 6799 US (Chicago)\n+1 646 558 8656 US (New York)\n+1 301 715 8592 US (Washington D.C)\n+1 346 248 7799 US (Houston)\n+1 669 900 9128 US (San Jose)\n+1 253 215 8782 US (Tacoma)\nMeeting ID: 817 0597 8056\nPasscode: 690011\nFind your local number: https://us02web.zoom.us/u/kYqwlpdOa \n \nFor ages 18 and up.\nEnjoy from the comfort of home via BCPL’s main Facebook page or Zoom. Can’t make it at 8:00 PM? That’s fine\, too. The show will remain online until further notice to view\, share\, and enjoy! \nQuestions? Contact Gayle at gayle@bcplib.org or call 543-7675 ext. 2551.
URL:https://bcplib.org/event/the-bluegrass-bigfoot-live/
LOCATION:Zoom Meeting
CATEGORIES:Adults
ORGANIZER;CN="Gayle":MAILTO:gayle@bcplib.org
END:VEVENT
END:VCALENDAR