BEGIN:VCALENDAR
VERSION:2.0
PRODID:-//Bullitt County Public Library - ECPv5.16.4//NONSGML v1.0//EN
CALSCALE:GREGORIAN
METHOD:PUBLISH
X-WR-CALNAME:Bullitt County Public Library
X-ORIGINAL-URL:https://bcplib.org
X-WR-CALDESC:Events for Bullitt County Public Library
BEGIN:VTIMEZONE
TZID:America/Kentucky/Louisville
BEGIN:DAYLIGHT
TZOFFSETFROM:-0500
TZOFFSETTO:-0400
TZNAME:EDT
DTSTART:20220313T070000
END:DAYLIGHT
BEGIN:STANDARD
TZOFFSETFROM:-0400
TZOFFSETTO:-0500
TZNAME:EST
DTSTART:20221106T060000
END:STANDARD
END:VTIMEZONE
BEGIN:VEVENT
DTSTART;TZID=America/Kentucky/Louisville:20220730T120000
DTEND;TZID=America/Kentucky/Louisville:20220730T150000
DTSTAMP:20260421T170030
CREATED:20220719T191411Z
LAST-MODIFIED:20220721T194645Z
UID:103266-1659182400-1659193200@bcplib.org
SUMMARY:Teen Film Club
DESCRIPTION:Rating: PGRuntime: 2 hr. 11 min.\nThe first rule of Teen Film Club is to tell all your friends about Teen Film Club… \nJoin us for Teem Film Club every month. We’ll pop the popcorn\, lower the screen\, and dim the lights. You bring a friend\, hang out\, and enjoy! For a little extra entertainment\, we’ll also offer a new film-themed craft for every show. \nThis month\, we will be watching National Treasure and creating a document with a secret message. \n\nDESCRIPTION: Benjamin Franklin Gates descends from a family of treasure-seekers who’ve all hunted for the same thing: a war chest hidden by the Founding Fathers after the Revolutionary War. Ben’s close to discovering its whereabouts\, as is his competition\, but the FBI is also hip to the hunt. \n\nAges 12–18. Just drop in! \nSeating and supplies will be available on a first-come\, first-served basis. Questions? E-mail Jenn C. at jennifer@bcplib.org. \n  \n  \n 
URL:https://bcplib.org/event/tfc-jul2022/
LOCATION:Central Library\, 740 Conestoga Parkway\, Shepherdsville\, KY\, 40165\, United States
CATEGORIES:Teens
ORGANIZER;CN="Jenn%20C.":MAILTO:jennifer@bcplib.org
GEO:38.00114197470041;-85.70603443163063
X-APPLE-STRUCTURED-LOCATION;VALUE=URI;X-ADDRESS=Central Library 740 Conestoga Parkway Shepherdsville KY 40165 United States;X-APPLE-RADIUS=500;X-TITLE=740 Conestoga Parkway:geo:-85.70603443163063,38.00114197470041
END:VEVENT
END:VCALENDAR