BEGIN:VCALENDAR
VERSION:2.0
PRODID:-//Bullitt County Public Library - ECPv5.16.4//NONSGML v1.0//EN
CALSCALE:GREGORIAN
METHOD:PUBLISH
X-WR-CALNAME:Bullitt County Public Library
X-ORIGINAL-URL:https://bcplib.org
X-WR-CALDESC:Events for Bullitt County Public Library
BEGIN:VTIMEZONE
TZID:America/Kentucky/Louisville
BEGIN:DAYLIGHT
TZOFFSETFROM:-0500
TZOFFSETTO:-0400
TZNAME:EDT
DTSTART:20220313T070000
END:DAYLIGHT
BEGIN:STANDARD
TZOFFSETFROM:-0400
TZOFFSETTO:-0500
TZNAME:EST
DTSTART:20221106T060000
END:STANDARD
END:VTIMEZONE
BEGIN:VEVENT
DTSTART;TZID=America/Kentucky/Louisville:20220802T143000
DTEND;TZID=America/Kentucky/Louisville:20220802T173000
DTSTAMP:20260421T192201
CREATED:20210820T151636Z
LAST-MODIFIED:20220725T162214Z
UID:103415-1659450600-1659461400@bcplib.org
SUMMARY:Teen Lounge
DESCRIPTION:Hang out\, play\, and explore all that the library has to offer! \nAt Teen Lounge\, your experience is in YOUR hands. Drop in when you like\, and choose whichever activity suits your mood. Play on our gaming laptops\, explore the world of virtual reality\, create your own art projects\, tinker with a variety of technology and engineering tools\, get your game on with an assortment of board and card games\, and share the experience with your friends. Plus\, enjoy free refreshments! \nFor ages 10–18. Just drop in!\nSeating and supplies will be available on a first-come\, first-served basis. \nQuestions? Call Ms. Angel at 543-7675 ext. 2556 or e-mail angel@bcplib.org. \n\nTEEN LOUNGE SCHEDULE\n \n1st\, 2nd\, 3rd & 5th Tuesdays @Mt. Washington\n2 Tuesdays per month* @Hillview\n3rd & 4th Thursdays** @Central\n \n*Please note\, Hillview’s Teen Lounge is moving to Wednesdays in October!\n**Please note\, there will be no Teen Lounge on August 25th at Central Library due to a schedule conflict. \n 
URL:https://bcplib.org/event/teenlounge-mw-2022/2022-08-02/
LOCATION:Mt. Washington Branch\, 214 N. Bardstown Road\, Mt. Washington\, KY\, 40047\, United States
CATEGORIES:Teens,Tweens
ORGANIZER;CN="Angel":MAILTO:angel@bcplib.org
GEO:38.0492119;-85.5430434
X-APPLE-STRUCTURED-LOCATION;VALUE=URI;X-ADDRESS=Mt. Washington Branch 214 N. Bardstown Road Mt. Washington KY 40047 United States;X-APPLE-RADIUS=500;X-TITLE=214 N. Bardstown Road:geo:-85.5430434,38.0492119
END:VEVENT
END:VCALENDAR