BEGIN:VCALENDAR
VERSION:2.0
PRODID:-//Bullitt County Public Library - ECPv5.16.4//NONSGML v1.0//EN
CALSCALE:GREGORIAN
METHOD:PUBLISH
X-WR-CALNAME:Bullitt County Public Library
X-ORIGINAL-URL:https://bcplib.org
X-WR-CALDESC:Events for Bullitt County Public Library
BEGIN:VTIMEZONE
TZID:America/Kentucky/Louisville
BEGIN:DAYLIGHT
TZOFFSETFROM:-0500
TZOFFSETTO:-0400
TZNAME:EDT
DTSTART:20180311T070000
END:DAYLIGHT
BEGIN:STANDARD
TZOFFSETFROM:-0400
TZOFFSETTO:-0500
TZNAME:EST
DTSTART:20181104T060000
END:STANDARD
END:VTIMEZONE
BEGIN:VEVENT
DTSTART;TZID=America/Kentucky/Louisville:20180227T150000
DTEND;TZID=America/Kentucky/Louisville:20180227T180000
DTSTAMP:20260423T164923
CREATED:20180222T195450Z
LAST-MODIFIED:20180423T181304Z
UID:25596-1519743600-1519754400@bcplib.org
SUMMARY:Teen Lounge
DESCRIPTION:Hang out\, geek out\, and mess around with library gaming laptops and a variety of technology and engineering tools. Each night will have its own theme (noted below)\, but you can come as you are and do your own thing as you chat\, listen to music\, or watch movies with free refreshments. \nTech Tuesdays\nIncluding 3D printer and 3D pens\, gaming laptops\, and more! \nMakerspace Wednesdays*\nIncluding arts and crafting supplies plus other creative and engineering kits. \nMovie Night Thursdays\nTeens’ choice movies! \nJust drop in!\nSeating available on a first-come\, first-served basis. Questions? E-mail mike@bcplib.org.\n*Please note\, Teen Lounge will not be in session on the 3rd Wednesday of each month due to the Page Turners book club.
URL:https://bcplib.org/event/teen-lounge/2018-02-27/
LOCATION:Hillview Branch\, 155 Terry Boulevard\, Hillview\, KY\, 40229\, United States
CATEGORIES:Teens,Tweens
ORGANIZER;CN="Mike":MAILTO:mike@bcplib.org
GEO:38.077247;-85.688966
X-APPLE-STRUCTURED-LOCATION;VALUE=URI;X-ADDRESS=Hillview Branch 155 Terry Boulevard Hillview KY 40229 United States;X-APPLE-RADIUS=500;X-TITLE=155 Terry Boulevard:geo:-85.688966,38.077247
END:VEVENT
END:VCALENDAR