BEGIN:VCALENDAR
VERSION:2.0
PRODID:-//Bullitt County Public Library - ECPv5.16.4//NONSGML v1.0//EN
CALSCALE:GREGORIAN
METHOD:PUBLISH
X-WR-CALNAME:Bullitt County Public Library
X-ORIGINAL-URL:https://bcplib.org
X-WR-CALDESC:Events for Bullitt County Public Library
BEGIN:VTIMEZONE
TZID:America/Kentucky/Louisville
BEGIN:DAYLIGHT
TZOFFSETFROM:-0500
TZOFFSETTO:-0400
TZNAME:EDT
DTSTART:20220313T070000
END:DAYLIGHT
BEGIN:STANDARD
TZOFFSETFROM:-0400
TZOFFSETTO:-0500
TZNAME:EST
DTSTART:20221106T060000
END:STANDARD
END:VTIMEZONE
BEGIN:VEVENT
DTSTART;TZID=America/Kentucky/Louisville:20220618T130000
DTEND;TZID=America/Kentucky/Louisville:20220618T140000
DTSTAMP:20260421T192032
CREATED:20220531T175523Z
LAST-MODIFIED:20220531T180358Z
UID:102607-1655557200-1655560800@bcplib.org
SUMMARY:Tea Party
DESCRIPTION:Don’t be late for a very important date… \nJoin us for a lovely afternoon of tea\, crafts\, and friends. Each child will decorate their own special tea cup to commemorate the occasion. Bring a friend or a stuffed buddy to make it tea for two! \nPsst… Weather permitting\, the tea party will take place in our backyard pavilion. Bring a towel or blanket to set up your personal “picnic tea” area on the grass. \n\nJust drop in! For children of all ages.\nSeating and craft supplies will be available on a first-come\, first-served basis. Questions? Call Ms. Brandy or e-mail brandy@bcplib.org.
URL:https://bcplib.org/event/tea-party/
LOCATION:Hillview Branch\, 155 Terry Boulevard\, Hillview\, KY\, 40229\, United States
CATEGORIES:Tweens,Kids
GEO:38.077247;-85.688966
X-APPLE-STRUCTURED-LOCATION;VALUE=URI;X-ADDRESS=Hillview Branch 155 Terry Boulevard Hillview KY 40229 United States;X-APPLE-RADIUS=500;X-TITLE=155 Terry Boulevard:geo:-85.688966,38.077247
END:VEVENT
END:VCALENDAR