BEGIN:VCALENDAR
VERSION:2.0
PRODID:-//Bullitt County Public Library - ECPv5.16.4//NONSGML v1.0//EN
CALSCALE:GREGORIAN
METHOD:PUBLISH
X-WR-CALNAME:Bullitt County Public Library
X-ORIGINAL-URL:https://bcplib.org
X-WR-CALDESC:Events for Bullitt County Public Library
BEGIN:VTIMEZONE
TZID:America/Kentucky/Louisville
BEGIN:DAYLIGHT
TZOFFSETFROM:-0500
TZOFFSETTO:-0400
TZNAME:EDT
DTSTART:20180311T070000
END:DAYLIGHT
BEGIN:STANDARD
TZOFFSETFROM:-0400
TZOFFSETTO:-0500
TZNAME:EST
DTSTART:20181104T060000
END:STANDARD
END:VTIMEZONE
BEGIN:VEVENT
DTSTART;TZID=America/Kentucky/Louisville:20180329T180000
DTEND;TZID=America/Kentucky/Louisville:20180329T190000
DTSTAMP:20260423T092839
CREATED:20180126T155300Z
LAST-MODIFIED:20180212T173844Z
UID:24236-1522346400-1522350000@bcplib.org
SUMMARY:Take Back Your Health
DESCRIPTION:Join Cedar Grove Wellness Center’s certified nutritionist and lifestyle coach for a comprehensive overview of nutrition\, exercise\, and how they can go hand-in-hand for a healthier you! For ages 18+. \nJust drop in! Seating will be available on a first-come\, first-served basis. Questions? Call Jillian at 543-7675 ext. 2557 or e-mail jillian@bcplib.org. \nPlease note: This event was previously listed as registration required; all registrations received before the status update will be honored. \n\n 
URL:https://bcplib.org/event/take-back-your-health-rm/
LOCATION:Ridgway Memorial Library\, 127 N. Walnut Street\, Shepherdsville\, KY\, 40165\, United States
CATEGORIES:Adults
ORGANIZER;CN="Jillian":MAILTO:jillian@bcplib.org
GEO:38.001133520394;-85.706045160467
X-APPLE-STRUCTURED-LOCATION;VALUE=URI;X-ADDRESS=Ridgway Memorial Library 127 N. Walnut Street Shepherdsville KY 40165 United States;X-APPLE-RADIUS=500;X-TITLE=127 N. Walnut Street:geo:-85.706045160467,38.001133520394
END:VEVENT
END:VCALENDAR