BEGIN:VCALENDAR
VERSION:2.0
PRODID:-//Bullitt County Public Library - ECPv5.16.4//NONSGML v1.0//EN
CALSCALE:GREGORIAN
METHOD:PUBLISH
X-WR-CALNAME:Bullitt County Public Library
X-ORIGINAL-URL:https://bcplib.org
X-WR-CALDESC:Events for Bullitt County Public Library
BEGIN:VTIMEZONE
TZID:America/Kentucky/Louisville
BEGIN:DAYLIGHT
TZOFFSETFROM:-0500
TZOFFSETTO:-0400
TZNAME:EDT
DTSTART:20190310T070000
END:DAYLIGHT
BEGIN:STANDARD
TZOFFSETFROM:-0400
TZOFFSETTO:-0500
TZNAME:EST
DTSTART:20191103T060000
END:STANDARD
END:VTIMEZONE
BEGIN:VEVENT
DTSTART;TZID=America/Kentucky/Louisville:20190105T100000
DTEND;TZID=America/Kentucky/Louisville:20190105T104500
DTSTAMP:20260422T021730
CREATED:20181207T175237Z
LAST-MODIFIED:20181207T175641Z
UID:42696-1546682400-1546685100@bcplib.org
SUMMARY:Superheroes Snooze Storytime
DESCRIPTION:Just because superheroes are off saving the world doesn’t mean they don’t have bedtimes\, too!\nSo keep on your PJs\, grab your superhero capes\, and join us for a special superhero storytime on a Saturday morning. We’ll read fun stories about superheroes’ nighttime adventures\, and then you can share your own super adventures from the night before while you create a super-awesome craft to take home! \nFor ages 3–6.\nRegistration is required for a select number of reserved seats. Additional seating will be available on a first-come\, first-served basis. Questions? E-mail brandy@bcplib.org.
URL:https://bcplib.org/event/superheroes-snooze-storytime/
LOCATION:Hillview Branch\, 155 Terry Boulevard\, Hillview\, KY\, 40229\, United States
CATEGORIES:Kids
GEO:38.077247;-85.688966
X-APPLE-STRUCTURED-LOCATION;VALUE=URI;X-ADDRESS=Hillview Branch 155 Terry Boulevard Hillview KY 40229 United States;X-APPLE-RADIUS=500;X-TITLE=155 Terry Boulevard:geo:-85.688966,38.077247
END:VEVENT
END:VCALENDAR