BEGIN:VCALENDAR
VERSION:2.0
PRODID:-//Bullitt County Public Library - ECPv5.16.4//NONSGML v1.0//EN
CALSCALE:GREGORIAN
METHOD:PUBLISH
X-WR-CALNAME:Bullitt County Public Library
X-ORIGINAL-URL:https://bcplib.org
X-WR-CALDESC:Events for Bullitt County Public Library
BEGIN:VTIMEZONE
TZID:America/Kentucky/Louisville
BEGIN:DAYLIGHT
TZOFFSETFROM:-0500
TZOFFSETTO:-0400
TZNAME:EDT
DTSTART:20180311T070000
END:DAYLIGHT
BEGIN:STANDARD
TZOFFSETFROM:-0400
TZOFFSETTO:-0500
TZNAME:EST
DTSTART:20181104T060000
END:STANDARD
END:VTIMEZONE
BEGIN:VEVENT
DTSTART;TZID=America/Kentucky/Louisville:20180726T160000
DTEND;TZID=America/Kentucky/Louisville:20180726T190000
DTSTAMP:20260425T195616
CREATED:20180424T163445Z
LAST-MODIFIED:20180424T175750Z
UID:28974-1532620800-1532631600@bcplib.org
SUMMARY:Random Fandom: LARPing Lock-In
DESCRIPTION:Come hang out and create at BCPL! \nThroughout the summer months\, each branch will host the SummerQuest Teen Lounge—an opportunity for teens and tweens to make\, create\, and explore the things (and fandoms) they love. \nOn Random Fandom Thursdays\, celebrate the fandom within you! Between singing competitions\, retro gaming\, anime nights\, and even a LARPing Lock-In\, there’s fun for everyone. We’ll also have drinks and snacks if you just want to chill and talk to your friends. \nFor Middle & High School Ages.\nJust drop in! Seating will be available on a first-come\, first-served basis. Questions? E-mail steven@bcplib.org. \n\nFull listing of Random Fandom Thursday themes:\nThursday\, May 24th\nBattleKasters: The Stonefire Portal Opens! \nThursday\, May 31st\nCommunity Superheroes \nThursday\, June 7th\nThe Voice Open Mic & Karaoke Showcase with Milkshake Bar \nThursday\, June  14th\nWilly Wonka’s Candy Factory Break in Challenge \nThursday\, June 21st\nTeen Planning Committee’s Murder Mystery Whodunit @Mt. Washington Branch Library ONLY \nThursday\, June 28th\nStranger Things ’80s Retro Night with Tabletop Games and Waffle Bar \nThursday\, July 5th\nFourth of July Week Cheesy Movie Marathon with Cheesy Popcorn \nThursday\, July 12th\nMaster Chef: Teen Super Snack Edition \nThursday\, July 19th\nAmazing Anime Night with Japanese Snacks \nThursday\, July 26th\nTeen Planning Committee’s LARPing Lock-In @Ridgway Memorial Library ONLY \n 
URL:https://bcplib.org/event/summerquest-teen-lounge-random-fandom-thursday-2018-07-26/
LOCATION:Ridgway Memorial Library\, 127 N. Walnut Street\, Shepherdsville\, KY\, 40165\, United States
CATEGORIES:Teens,Tweens
ORGANIZER;CN="Steven":MAILTO:steven@bcplib.org
GEO:38.001133520394;-85.706045160467
X-APPLE-STRUCTURED-LOCATION;VALUE=URI;X-ADDRESS=Ridgway Memorial Library 127 N. Walnut Street Shepherdsville KY 40165 United States;X-APPLE-RADIUS=500;X-TITLE=127 N. Walnut Street:geo:-85.706045160467,38.001133520394
END:VEVENT
END:VCALENDAR