BEGIN:VCALENDAR
VERSION:2.0
PRODID:-//Bullitt County Public Library - ECPv5.16.4//NONSGML v1.0//EN
CALSCALE:GREGORIAN
METHOD:PUBLISH
X-WR-CALNAME:Bullitt County Public Library
X-ORIGINAL-URL:https://bcplib.org
X-WR-CALDESC:Events for Bullitt County Public Library
BEGIN:VTIMEZONE
TZID:America/Kentucky/Louisville
BEGIN:DAYLIGHT
TZOFFSETFROM:-0500
TZOFFSETTO:-0400
TZNAME:EDT
DTSTART:20210314T070000
END:DAYLIGHT
BEGIN:STANDARD
TZOFFSETFROM:-0400
TZOFFSETTO:-0500
TZNAME:EST
DTSTART:20211107T060000
END:STANDARD
END:VTIMEZONE
BEGIN:VEVENT
DTSTART;TZID=America/Kentucky/Louisville:20211025T180000
DTEND;TZID=America/Kentucky/Louisville:20211025T190000
DTSTAMP:20260422T204204
CREATED:20211004T191953Z
LAST-MODIFIED:20211007T184733Z
UID:97241-1635184800-1635188400@bcplib.org
SUMMARY:Sugar Skull Decorating
DESCRIPTION:Celebrate Día de los Muertos… \nJoin us to decorate adorable mini sugar skulls. Create your own royal icing and use it to make colorfully-unique sugar skulls. \nCan’t make it to the library on October 25th? Check out Brandy’s video tutorial to try this at home! \n \nFor ages 5 and up.\nRegistration is required for a select number of reserved seats. Additional seating will be available on a first-come\, first-served basis. Questions? E-mail brandy@bcplib.org. \n\nWe’re sorry\, but guaranteed registration for this event is now closed.
URL:https://bcplib.org/event/sugar-skull-decorating/
LOCATION:Hillview Branch\, 155 Terry Boulevard\, Hillview\, KY\, 40229\, United States
CATEGORIES:Adults,Teens,Tweens,Kids,Family
GEO:38.077247;-85.688966
X-APPLE-STRUCTURED-LOCATION;VALUE=URI;X-ADDRESS=Hillview Branch 155 Terry Boulevard Hillview KY 40229 United States;X-APPLE-RADIUS=500;X-TITLE=155 Terry Boulevard:geo:-85.688966,38.077247
END:VEVENT
END:VCALENDAR