BEGIN:VCALENDAR
VERSION:2.0
PRODID:-//Bullitt County Public Library - ECPv5.16.4//NONSGML v1.0//EN
CALSCALE:GREGORIAN
METHOD:PUBLISH
X-WR-CALNAME:Bullitt County Public Library
X-ORIGINAL-URL:https://bcplib.org
X-WR-CALDESC:Events for Bullitt County Public Library
BEGIN:VTIMEZONE
TZID:America/Kentucky/Louisville
BEGIN:DAYLIGHT
TZOFFSETFROM:-0500
TZOFFSETTO:-0400
TZNAME:EDT
DTSTART:20220313T070000
END:DAYLIGHT
BEGIN:STANDARD
TZOFFSETFROM:-0400
TZOFFSETTO:-0500
TZNAME:EST
DTSTART:20221106T060000
END:STANDARD
END:VTIMEZONE
BEGIN:VEVENT
DTSTART;TZID=America/Kentucky/Louisville:20220201T103000
DTEND;TZID=America/Kentucky/Louisville:20220201T113000
DTSTAMP:20260422T071652
CREATED:20220207T200439Z
LAST-MODIFIED:20220712T203950Z
UID:100302-1643711400-1643715000@bcplib.org
SUMMARY:Gentle Stretch
DESCRIPTION:Stretch it out… \nIncrease flexibility\, relieve sore muscles\, and rejuvenate your body! Join Donna for a low-impact exercise class designed to engage all the major muscle groups through gentle stretches and balancing techniques. This is a beginner-friendly class; a chair will typically be used for support. \nABOUT DONNA\nDonna Hall is a beloved member of our Hillview Branch Library staff. She has 17 years’ experience as a practitioner along with intermittent teaching experience\, including work as a substitute instructor at the YMCA. \nFor ages 21 and up. Just drop in!\nSeating will be available on a first-come\, first-served basis. Questions? Call Claire at 543-7675 ext. 2553 or e-mail claire@bclib.org.
URL:https://bcplib.org/event/stretch/2022-02-01/
LOCATION:Hillview Branch\, 155 Terry Boulevard\, Hillview\, KY\, 40229\, United States
CATEGORIES:Adults
ORGANIZER;CN="Mike":MAILTO:mike@bcplib.org
GEO:38.077247;-85.688966
X-APPLE-STRUCTURED-LOCATION;VALUE=URI;X-ADDRESS=Hillview Branch 155 Terry Boulevard Hillview KY 40229 United States;X-APPLE-RADIUS=500;X-TITLE=155 Terry Boulevard:geo:-85.688966,38.077247
END:VEVENT
END:VCALENDAR