BEGIN:VCALENDAR
VERSION:2.0
PRODID:-//Bullitt County Public Library - ECPv5.16.4//NONSGML v1.0//EN
CALSCALE:GREGORIAN
METHOD:PUBLISH
X-WR-CALNAME:Bullitt County Public Library
X-ORIGINAL-URL:https://bcplib.org
X-WR-CALDESC:Events for Bullitt County Public Library
BEGIN:VTIMEZONE
TZID:America/Kentucky/Louisville
BEGIN:DAYLIGHT
TZOFFSETFROM:-0500
TZOFFSETTO:-0400
TZNAME:EDT
DTSTART:20210314T070000
END:DAYLIGHT
BEGIN:STANDARD
TZOFFSETFROM:-0400
TZOFFSETTO:-0500
TZNAME:EST
DTSTART:20211107T060000
END:STANDARD
END:VTIMEZONE
BEGIN:VEVENT
DTSTART;TZID=America/Kentucky/Louisville:20210806T140000
DTEND;TZID=America/Kentucky/Louisville:20210806T140400
DTSTAMP:20260423T035154
CREATED:20210803T162603Z
LAST-MODIFIED:20210813T171029Z
UID:95321-1628258400-1628258640@bcplib.org
SUMMARY:Storytime Crafts with Ms. Jillian
DESCRIPTION:Missing the whole Storytime experience? \nMake a day of it every Friday! Enjoy a new Virtual Storytime video with Ms. Jillian in the morning\, then tune in that same afternoon for a fun craft to complement your morning story. You can even make every Friday a fun theme day for the whole family to help reinforce your child’s learning—and add to the fun\, of course! \nPlus\, stay tuned! Monthly Storytime Craft Kits are available for pickup. \nFor ages 0–6 and their families.\nQuestions? Or want make a theme request or just say “hello”? Call Ms. Jillian at 543-7675 ext. 2557 or e-mail jillian@bcplib.org. \nEnjoy from the comfort of home via BCPL’s main Facebook page. Can’t make it at 2:00 PM? That’s fine\, too. Videos will remain online to view\, share\, and enjoy.
URL:https://bcplib.org/event/storytime-crafts-with-ms-jillian-2/2021-08-06/
LOCATION:BCPL on Facebook
CATEGORIES:Kids,Family
ORGANIZER;CN="Jillian":MAILTO:jillian@bcplib.org
END:VEVENT
END:VCALENDAR