BEGIN:VCALENDAR
VERSION:2.0
PRODID:-//Bullitt County Public Library - ECPv5.16.4//NONSGML v1.0//EN
CALSCALE:GREGORIAN
METHOD:PUBLISH
X-WR-CALNAME:Bullitt County Public Library
X-ORIGINAL-URL:https://bcplib.org
X-WR-CALDESC:Events for Bullitt County Public Library
BEGIN:VTIMEZONE
TZID:America/Kentucky/Louisville
BEGIN:DAYLIGHT
TZOFFSETFROM:-0500
TZOFFSETTO:-0400
TZNAME:EDT
DTSTART:20200308T070000
END:DAYLIGHT
BEGIN:STANDARD
TZOFFSETFROM:-0400
TZOFFSETTO:-0500
TZNAME:EST
DTSTART:20201101T060000
END:STANDARD
END:VTIMEZONE
BEGIN:VEVENT
DTSTART;TZID=America/Kentucky/Louisville:20200403T103000
DTEND;TZID=America/Kentucky/Louisville:20200403T111500
DTSTAMP:20260422T193419
CREATED:20190701T183010Z
LAST-MODIFIED:20200310T135405Z
UID:56643-1585909800-1585912500@bcplib.org
SUMMARY:CANCELED | Storytime
DESCRIPTION:When I say to a parent\, “read to a child\,” I don’t want it to sound like medicine. I want it to sound like chocolate. —Mem Fox \nReading becomes a favorite treat as we explore early literacy through stories\, songs\, and a simple craft. This free program for children ages 3 to 5 is designed to provide kids a foundation for kindergarten\, including helping them to develop important socialization skills. We strive to create fun and rich experiences that build a love of books\, libraries\, and learning that will stay with children for a lifetime. \n\nSpecial Friday Storytimes\n\nDECEMBER 20th: Oh what fun you’ll have at our annual Jingle Bell Party! Dress in your holiday finest and join us for a special surprise\, stories\, and treats.\nFEBRUARY 14th: Spread the love at our annual Valentine’s party! We’ll pass out valentines\, enjoy lovable stories\, and more.\nAPRIL 10th: Hop on over to Storytime for a special Easter egg hunt and party. Of course\, we’ll have some eggciting stories too!\n\n\nMorning Session: 10:30–11:15 AM\nAfternoon Session: 2:30–3:15 PM \nWeekly storytimes are offered at each BCPL location. Can’t make it to Lebanon Junction on Fridays? Consider attending on Tuesdays at Mt. Washington\, on Wednesdays at Hillview\, or on Thursdays at Ridgway Memorial. A parent or caregiver must remain with the child at all times. \nRegistration is required for a select number of reserved seats.\nQuestions? Call Ms. Jillian at 543-7675 ext. 2557 or e-mail jillian@bcplib.org.
URL:https://bcplib.org/event/storytime-11-2020-04-03/
LOCATION:Lebanon Junction Branch\, 11382 S. Preston Highway\, Lebanon Junction\, KY\, 40150\, United States
CATEGORIES:Kids
ORGANIZER;CN="Jillian":MAILTO:jillian@bcplib.org
GEO:37.8417678;-85.7287508
X-APPLE-STRUCTURED-LOCATION;VALUE=URI;X-ADDRESS=Lebanon Junction Branch 11382 S. Preston Highway Lebanon Junction KY 40150 United States;X-APPLE-RADIUS=500;X-TITLE=11382 S. Preston Highway:geo:-85.7287508,37.8417678
END:VEVENT
END:VCALENDAR