BEGIN:VCALENDAR
VERSION:2.0
PRODID:-//Bullitt County Public Library - ECPv5.16.4//NONSGML v1.0//EN
CALSCALE:GREGORIAN
METHOD:PUBLISH
X-WR-CALNAME:Bullitt County Public Library
X-ORIGINAL-URL:https://bcplib.org
X-WR-CALDESC:Events for Bullitt County Public Library
BEGIN:VTIMEZONE
TZID:America/Kentucky/Louisville
BEGIN:DAYLIGHT
TZOFFSETFROM:-0500
TZOFFSETTO:-0400
TZNAME:EDT
DTSTART:20190310T070000
END:DAYLIGHT
BEGIN:STANDARD
TZOFFSETFROM:-0400
TZOFFSETTO:-0500
TZNAME:EST
DTSTART:20191103T060000
END:STANDARD
END:VTIMEZONE
BEGIN:VEVENT
DTSTART;TZID=America/Kentucky/Louisville:20190903T103000
DTEND;TZID=America/Kentucky/Louisville:20190903T111500
DTSTAMP:20260424T035921
CREATED:20190701T182452Z
LAST-MODIFIED:20190702T135118Z
UID:56212-1567506600-1567509300@bcplib.org
SUMMARY:Storytime
DESCRIPTION:Storytime returns to Mt. Washington Branch Library on Tuesday\, August 20th! \nEarly literacy through stories\, songs\, and a simple craft. This free program for children ages 3 to 5 is designed to provide kids a foundation for kindergarten\, including helping them to develop important socialization skills. We strive to create fun and rich experiences that build a love of books\, libraries\, and learning that will stay with children for a lifetime. \n\nTuesday Storytimes at Mt. Washington\n\n\n\nAUGUST\n\n20th: Welcome\n27th: Shark Week\n\n\n\n\nSEPTEMBER\n\n3rd: Grandparents\n10th: Bugs\, Bugs\, Bugs!\n\n17th: Talk Like a Pirate\n24th: Happy Fall\, Y’all!\n\n\n\nOCTOBER\n\n1st: Pumpkins Galore!\n8th: Dig\, Push\, Haul!\n15th: TBD\n22nd: Halloween\n29th: Trick or Treat Party\n\n\n\nNOVEMBER\n\n5th: Getting Squirrelly!\n12th: Leaves\, Leaves\, Everywhere!\n19th: Family\n27th: Happy Thanksgiving!\n\n\n\n\n\nMorning Session: 10:30–11:15 AM\nAfternoon Session: 2:30–3:15 PM \nWeekly storytimes are offered at each BCPL location. Can’t make it to Mt. Washington on Tuesdays? Consider attending on Wednesdays at Hillview\, on Thursdays at Ridgway Memorial\, or on Fridays at Lebanon Junction. A parent or caregiver must remain with the child at all times. \nRegistration is required for a select number of reserved seats.\nQuestions? Call Ms. Angel at 543-7675 ext. 2556 or e-mail angel@bcplib.org.
URL:https://bcplib.org/event/storytime-10-2019-09-03/
LOCATION:Mt. Washington Branch\, 214 N. Bardstown Road\, Mt. Washington\, KY\, 40047\, United States
CATEGORIES:Kids
ORGANIZER;CN="Angel":MAILTO:angel@bcplib.org
GEO:38.0492119;-85.5430434
X-APPLE-STRUCTURED-LOCATION;VALUE=URI;X-ADDRESS=Mt. Washington Branch 214 N. Bardstown Road Mt. Washington KY 40047 United States;X-APPLE-RADIUS=500;X-TITLE=214 N. Bardstown Road:geo:-85.5430434,38.0492119
END:VEVENT
END:VCALENDAR