BEGIN:VCALENDAR
VERSION:2.0
PRODID:-//Bullitt County Public Library - ECPv5.16.4//NONSGML v1.0//EN
CALSCALE:GREGORIAN
METHOD:PUBLISH
X-WR-CALNAME:Bullitt County Public Library
X-ORIGINAL-URL:https://bcplib.org
X-WR-CALDESC:Events for Bullitt County Public Library
BEGIN:VTIMEZONE
TZID:America/Kentucky/Louisville
BEGIN:DAYLIGHT
TZOFFSETFROM:-0500
TZOFFSETTO:-0400
TZNAME:EDT
DTSTART:20180311T070000
END:DAYLIGHT
BEGIN:STANDARD
TZOFFSETFROM:-0400
TZOFFSETTO:-0500
TZNAME:EST
DTSTART:20181104T060000
END:STANDARD
END:VTIMEZONE
BEGIN:VEVENT
DTSTART;TZID=America/Kentucky/Louisville:20180112T103000
DTEND;TZID=America/Kentucky/Louisville:20180112T113000
DTSTAMP:20260422T162720
CREATED:20170327T163918Z
LAST-MODIFIED:20180112T005953Z
UID:6981-1515753000-1515756600@bcplib.org
SUMMARY:CANCELED | Storyhour
DESCRIPTION:Early literacy through stories\, songs\, and a simple craft. A FREE program for children ages 3 to 5. \nA parent or caregiver must remain with the child at all times.  \nRegistration required.\nQuestions? Call Ms. Angel at 543-7675 ext. 2556 or e-mail angel@bcplib.org. \n\nWe’re sorry\, but guaranteed registration for the morning session at Mt. Washington has been closed due to space and staffing limitations. However\, we are considering also offering a 1:00–2:00 PM session at this location if there is enough interest. If you would be interested in attending an afternoon session with your child at Mt. Washington\, please submit an Afternoon Storyhour Interest Form or contact Ms. Angel at 543-7675 ext. 2556.
URL:https://bcplib.org/event/storyhour-mw-2018-01-12/
LOCATION:Mt. Washington Branch\, 214 N. Bardstown Road\, Mt. Washington\, KY\, 40047\, United States
CATEGORIES:Kids
ORGANIZER;CN="Angel":MAILTO:angel@bcplib.org
GEO:38.0492119;-85.5430434
X-APPLE-STRUCTURED-LOCATION;VALUE=URI;X-ADDRESS=Mt. Washington Branch 214 N. Bardstown Road Mt. Washington KY 40047 United States;X-APPLE-RADIUS=500;X-TITLE=214 N. Bardstown Road:geo:-85.5430434,38.0492119
END:VEVENT
END:VCALENDAR