BEGIN:VCALENDAR
VERSION:2.0
PRODID:-//Bullitt County Public Library - ECPv5.16.4//NONSGML v1.0//EN
CALSCALE:GREGORIAN
METHOD:PUBLISH
X-WR-CALNAME:Bullitt County Public Library
X-ORIGINAL-URL:https://bcplib.org
X-WR-CALDESC:Events for Bullitt County Public Library
BEGIN:VTIMEZONE
TZID:America/Kentucky/Louisville
BEGIN:DAYLIGHT
TZOFFSETFROM:-0500
TZOFFSETTO:-0400
TZNAME:EDT
DTSTART:20180311T070000
END:DAYLIGHT
BEGIN:STANDARD
TZOFFSETFROM:-0400
TZOFFSETTO:-0500
TZNAME:EST
DTSTART:20181104T060000
END:STANDARD
END:VTIMEZONE
BEGIN:VEVENT
DTSTART;TZID=America/Kentucky/Louisville:20180505T130000
DTEND;TZID=America/Kentucky/Louisville:20180505T140000
DTSTAMP:20260422T064209
CREATED:20180220T163653Z
LAST-MODIFIED:20180220T164406Z
UID:25474-1525525200-1525528800@bcplib.org
SUMMARY:Star Wars: Meet & Greet - Jedi & Storm Trooper
DESCRIPTION:Are you a member of the Empire… or the Rebellion?\nDrop in to meet a real\, live Jedi and a Storm Trooper. Don’t forget your camera! \nFor Star Wars fans of all ages. Just drop in!\nSeating will be available on a first-come\, first-served basis. Questions? E-mail angel@bcplib.org.\n \n\n \n  \nMay the Force Be with You!\nIf you’ve ever imagined battling through the galaxy as a Storm Trooper\, or dreamed of meeting Darth Vader\, don’t miss this series of events celebrating the magic of Star Wars!\n \n  \n\nCOMPLETE SERIES OF EVENTS \nMay 3rd | 6:00–7:00 PM | Registration Required\nColor Your Own Glow-in-the-Dark Star Wars Poster \nMay 4th | 11:00 AM–12:00 PM | Drop-in Event\nStorm Trooper Training \nMay 4th | 2:00–3:00 PM | Registration Required\nMake Your Own Light Saber \nMay 5th | 1:00–2:00 PM | Drop-in Event\nMEET & GREET: Jedi & Storm Trooper \nMay 5th | 3:00–4:00 PM | Drop-in Event\nMEET & GREET: Darth Vader & Princess Leia \n 
URL:https://bcplib.org/event/star-wars-meet-greet-jedi-storm-trooper/
LOCATION:Mt. Washington Branch\, 214 N. Bardstown Road\, Mt. Washington\, KY\, 40047\, United States
CATEGORIES:Teens,Tweens,Kids,Family
ORGANIZER;CN="Angel":MAILTO:angel@bcplib.org
GEO:38.0492119;-85.5430434
X-APPLE-STRUCTURED-LOCATION;VALUE=URI;X-ADDRESS=Mt. Washington Branch 214 N. Bardstown Road Mt. Washington KY 40047 United States;X-APPLE-RADIUS=500;X-TITLE=214 N. Bardstown Road:geo:-85.5430434,38.0492119
END:VEVENT
END:VCALENDAR