BEGIN:VCALENDAR
VERSION:2.0
PRODID:-//Bullitt County Public Library - ECPv5.16.4//NONSGML v1.0//EN
CALSCALE:GREGORIAN
METHOD:PUBLISH
X-WR-CALNAME:Bullitt County Public Library
X-ORIGINAL-URL:https://bcplib.org
X-WR-CALDESC:Events for Bullitt County Public Library
BEGIN:VTIMEZONE
TZID:America/Kentucky/Louisville
BEGIN:DAYLIGHT
TZOFFSETFROM:-0500
TZOFFSETTO:-0400
TZNAME:EDT
DTSTART:20180311T070000
END:DAYLIGHT
BEGIN:STANDARD
TZOFFSETFROM:-0400
TZOFFSETTO:-0500
TZNAME:EST
DTSTART:20181104T060000
END:STANDARD
END:VTIMEZONE
BEGIN:VEVENT
DTSTART;TZID=America/Kentucky/Louisville:20180421T100000
DTEND;TZID=America/Kentucky/Louisville:20180421T113000
DTSTAMP:20260421T182856
CREATED:20180313T190333Z
LAST-MODIFIED:20180313T190333Z
UID:26283-1524304800-1524310200@bcplib.org
SUMMARY:Spring Paper Petals
DESCRIPTION:Join local artisan Alyson Thiel for a workshop on creating beautiful paper flowers using inexpensive materials. \nFacebook: @paintpaperpetal \nInstagram: @paintpaperpetal \nwww.alysonthiel.com \nFor ages 16 and up. Registration is required for a select number of reserved seats. Additional seating will be available on a first-come\, first-served basis. Questions? E-mail gayle@bcplib.org.
URL:https://bcplib.org/event/spring-paper-petals-mw/
LOCATION:Mt. Washington Branch\, 214 N. Bardstown Road\, Mt. Washington\, KY\, 40047\, United States
CATEGORIES:Adults,Teens
ORGANIZER;CN="Gayle":MAILTO:gayle@bcplib.org
GEO:38.0492119;-85.5430434
X-APPLE-STRUCTURED-LOCATION;VALUE=URI;X-ADDRESS=Mt. Washington Branch 214 N. Bardstown Road Mt. Washington KY 40047 United States;X-APPLE-RADIUS=500;X-TITLE=214 N. Bardstown Road:geo:-85.5430434,38.0492119
END:VEVENT
END:VCALENDAR