BEGIN:VCALENDAR
VERSION:2.0
PRODID:-//Bullitt County Public Library - ECPv5.16.4//NONSGML v1.0//EN
CALSCALE:GREGORIAN
METHOD:PUBLISH
X-WR-CALNAME:Bullitt County Public Library
X-ORIGINAL-URL:https://bcplib.org
X-WR-CALDESC:Events for Bullitt County Public Library
BEGIN:VTIMEZONE
TZID:America/Kentucky/Louisville
BEGIN:DAYLIGHT
TZOFFSETFROM:-0500
TZOFFSETTO:-0400
TZNAME:EDT
DTSTART:20210314T070000
END:DAYLIGHT
BEGIN:STANDARD
TZOFFSETFROM:-0400
TZOFFSETTO:-0500
TZNAME:EST
DTSTART:20211107T060000
END:STANDARD
END:VTIMEZONE
BEGIN:VEVENT
DTSTART;TZID=America/Kentucky/Louisville:20211021T180000
DTEND;TZID=America/Kentucky/Louisville:20211021T190000
DTSTAMP:20260422T231910
CREATED:20211001T193750Z
LAST-MODIFIED:20211001T193750Z
UID:97288-1634839200-1634842800@bcplib.org
SUMMARY:Spooky Sugar Scrubs
DESCRIPTION:Scrub yourself with Halloween…🦇🎃👻 \nJoin us to make spooky\, Halloween-themed sugar scrubs. Create a fun sugar scrub with Halloween sprinkles\, then decorate the container to glow in the dark. \nFor ages 5 and up. Just drop in!\nSeating and supplies will be available on a first-come\, first-served basis. Questions? E-mail brandy@bcplib.org.
URL:https://bcplib.org/event/spooky-sugar-scrubs/
LOCATION:Hillview Branch\, 155 Terry Boulevard\, Hillview\, KY\, 40229\, United States
CATEGORIES:Adults,Teens,Tweens,Kids,Family
GEO:38.077247;-85.688966
X-APPLE-STRUCTURED-LOCATION;VALUE=URI;X-ADDRESS=Hillview Branch 155 Terry Boulevard Hillview KY 40229 United States;X-APPLE-RADIUS=500;X-TITLE=155 Terry Boulevard:geo:-85.688966,38.077247
END:VEVENT
END:VCALENDAR