BEGIN:VCALENDAR
VERSION:2.0
PRODID:-//Bullitt County Public Library - ECPv5.16.4//NONSGML v1.0//EN
CALSCALE:GREGORIAN
METHOD:PUBLISH
X-WR-CALNAME:Bullitt County Public Library
X-ORIGINAL-URL:https://bcplib.org
X-WR-CALDESC:Events for Bullitt County Public Library
BEGIN:VTIMEZONE
TZID:America/Kentucky/Louisville
BEGIN:DAYLIGHT
TZOFFSETFROM:-0500
TZOFFSETTO:-0400
TZNAME:EDT
DTSTART:20210314T070000
END:DAYLIGHT
BEGIN:STANDARD
TZOFFSETFROM:-0400
TZOFFSETTO:-0500
TZNAME:EST
DTSTART:20211107T060000
END:STANDARD
END:VTIMEZONE
BEGIN:VEVENT
DTSTART;TZID=America/Kentucky/Louisville:20210920T180000
DTEND;TZID=America/Kentucky/Louisville:20210920T190000
DTSTAMP:20260423T042859
CREATED:20210913T184313Z
LAST-MODIFIED:20210913T184401Z
UID:97024-1632160800-1632164400@bcplib.org
SUMMARY:Spa Day
DESCRIPTION:Need a little pampering? \nJoin us to create your own arsenal of relaxing\, self-care goodies with everything you need to treat yourself at home. Using essential oils and other household ingredients\, you can create delightful sugar scrubs\, therapeutic bath bombs\, and much more! \nSeptember 20th | Bath Bombs & Bath Salts\nOctober 18th | Sugars Scrubs & Room Sprays \nFor ages 10+ \nRegistration is required for a select number of reserved seats. Additional seating will be available on a first-come\, first-served basis. Questions? E-mail alexis@bcplib.org or angel@bcplib.org.
URL:https://bcplib.org/event/spa-day/2021-09-20/
LOCATION:Mt. Washington Branch\, 214 N. Bardstown Road\, Mt. Washington\, KY\, 40047\, United States
CATEGORIES:Adults,Teens,Tweens
ORGANIZER;CN="Alexis":MAILTO:alexis@bcplib.org
GEO:38.0492119;-85.5430434
X-APPLE-STRUCTURED-LOCATION;VALUE=URI;X-ADDRESS=Mt. Washington Branch 214 N. Bardstown Road Mt. Washington KY 40047 United States;X-APPLE-RADIUS=500;X-TITLE=214 N. Bardstown Road:geo:-85.5430434,38.0492119
END:VEVENT
END:VCALENDAR