BEGIN:VCALENDAR
VERSION:2.0
PRODID:-//Bullitt County Public Library - ECPv5.16.4//NONSGML v1.0//EN
CALSCALE:GREGORIAN
METHOD:PUBLISH
X-WR-CALNAME:Bullitt County Public Library
X-ORIGINAL-URL:https://bcplib.org
X-WR-CALDESC:Events for Bullitt County Public Library
BEGIN:VTIMEZONE
TZID:America/Kentucky/Louisville
BEGIN:DAYLIGHT
TZOFFSETFROM:-0500
TZOFFSETTO:-0400
TZNAME:EDT
DTSTART:20190310T070000
END:DAYLIGHT
BEGIN:STANDARD
TZOFFSETFROM:-0400
TZOFFSETTO:-0500
TZNAME:EST
DTSTART:20191103T060000
END:STANDARD
END:VTIMEZONE
BEGIN:VEVENT
DTSTART;TZID=America/Kentucky/Louisville:20190114T180000
DTEND;TZID=America/Kentucky/Louisville:20190114T190000
DTSTAMP:20260422T005623
CREATED:20181210T162158Z
LAST-MODIFIED:20190108T205324Z
UID:42898-1547488800-1547492400@bcplib.org
SUMMARY:Snow Day
DESCRIPTION:Join us for some snow-day fun INSIDE the library!  \nRegardless of the weather outside\, come celebrate the happiness of a Snow Day with a variety of winter-themed crafts\, a fun snowman game\, and an activity on the top of everyone’s Snow Day to-do lists: a snowball fight! That’s right\, we’ll have a snowball fight inside the library… And it will be epic! \nPsst…After the fun\, make sure to check out some of our snow-themed books and movies on display! \nFor children of all ages.\nRegistration is required for a select number of reserved seats. Additional seating will be available on a first-come\, first-served basis. Questions? E-mail angel@bcplib.org. \n\nWe’re sorry\, but guaranteed registration for this event is now closed.
URL:https://bcplib.org/event/snow-day/
LOCATION:Mt. Washington Branch\, 214 N. Bardstown Road\, Mt. Washington\, KY\, 40047\, United States
CATEGORIES:Kids
ORGANIZER;CN="Angel":MAILTO:angel@bcplib.org
GEO:38.0492119;-85.5430434
X-APPLE-STRUCTURED-LOCATION;VALUE=URI;X-ADDRESS=Mt. Washington Branch 214 N. Bardstown Road Mt. Washington KY 40047 United States;X-APPLE-RADIUS=500;X-TITLE=214 N. Bardstown Road:geo:-85.5430434,38.0492119
END:VEVENT
END:VCALENDAR