BEGIN:VCALENDAR
VERSION:2.0
PRODID:-//Bullitt County Public Library - ECPv5.16.4//NONSGML v1.0//EN
CALSCALE:GREGORIAN
METHOD:PUBLISH
X-WR-CALNAME:Bullitt County Public Library
X-ORIGINAL-URL:https://bcplib.org
X-WR-CALDESC:Events for Bullitt County Public Library
BEGIN:VTIMEZONE
TZID:America/Kentucky/Louisville
BEGIN:DAYLIGHT
TZOFFSETFROM:-0500
TZOFFSETTO:-0400
TZNAME:EDT
DTSTART:20180311T070000
END:DAYLIGHT
BEGIN:STANDARD
TZOFFSETFROM:-0400
TZOFFSETTO:-0500
TZNAME:EST
DTSTART:20181104T060000
END:STANDARD
END:VTIMEZONE
BEGIN:VEVENT
DTSTART;TZID=America/Kentucky/Louisville:20180515T180000
DTEND;TZID=America/Kentucky/Louisville:20180515T190000
DTSTAMP:20260423T084446
CREATED:20180413T193337Z
LAST-MODIFIED:20180501T225708Z
UID:26482-1526407200-1526410800@bcplib.org
SUMMARY:Slime Lab
DESCRIPTION:We’ll use awesome science to make several varieties of slime\, including heat-sensitive\, color-changing slime! \nAges 5–13. Registration is required for a select number of reserved seats.\nAdditional seating will be available on a first-come\, first-served basis. Questions? E-mail brandy@bcplib.org. \n\nWe’re sorry but guaranteed registration for this event has ended.
URL:https://bcplib.org/event/slime-lab-hl/
LOCATION:Hillview Branch\, 155 Terry Boulevard\, Hillview\, KY\, 40229\, United States
CATEGORIES:Tweens,Kids
GEO:38.077247;-85.688966
X-APPLE-STRUCTURED-LOCATION;VALUE=URI;X-ADDRESS=Hillview Branch 155 Terry Boulevard Hillview KY 40229 United States;X-APPLE-RADIUS=500;X-TITLE=155 Terry Boulevard:geo:-85.688966,38.077247
END:VEVENT
END:VCALENDAR