BEGIN:VCALENDAR
VERSION:2.0
PRODID:-//Bullitt County Public Library - ECPv5.16.4//NONSGML v1.0//EN
CALSCALE:GREGORIAN
METHOD:PUBLISH
X-WR-CALNAME:Bullitt County Public Library
X-ORIGINAL-URL:https://bcplib.org
X-WR-CALDESC:Events for Bullitt County Public Library
BEGIN:VTIMEZONE
TZID:America/Kentucky/Louisville
BEGIN:DAYLIGHT
TZOFFSETFROM:-0500
TZOFFSETTO:-0400
TZNAME:EDT
DTSTART:20210314T070000
END:DAYLIGHT
BEGIN:STANDARD
TZOFFSETFROM:-0400
TZOFFSETTO:-0500
TZNAME:EST
DTSTART:20211107T060000
END:STANDARD
END:VTIMEZONE
BEGIN:VEVENT
DTSTART;TZID=America/Kentucky/Louisville:20210812T160000
DTEND;TZID=America/Kentucky/Louisville:20210812T180000
DTSTAMP:20260423T015649
CREATED:20210719T190946Z
LAST-MODIFIED:20210719T191854Z
UID:94391-1628784000-1628791200@bcplib.org
SUMMARY:Shark Weeks: Sharknado
DESCRIPTION:Join us every Thursday in August for AWESOME shark-related crafts and projects!\nPLUS drop in anytime from August 1st–August 31st to visit our Shark Selfie Station and complete fun\, weekly activities for a chance to win a prize! \nThis week\, don’t get swept away when you make a Sharknado using 2-liter bottles\, sharks\, and food color. While you’re at the library\, be sure to take part in the Shark Fun Facts game for your chance to win a prize! \n\nSHARK WEEKS SCHEDULE: \nWEEK 1: August 1st–8th\nDrop-in Project: Shark Sensory Bottles | Thursday\, August 5th @4:00–6:00 PM\nWeekly Challenge: Shark ID \nWEEK 2: August 9th–15th\nDrop-in Project: Sharknado | Thursday\, August 12th @4:00–6:00 PM\nWeekly Challenge: Shark Fun Facts \nWEEK 3: August 16th–22nd\nDrop-in Project: Shark Teeth Beachcombing | Thursday\, August 19th @4:00–6:00 PM\nWeekly Challenge: Shark Seek & Find \nWEEK 4: August 23rd–31st\nDrop-in Project: Sea Creature Suncatchers | Wednesday\, August 26th @4:00–6:00 PM\nWeekly Challenge: Shark Counters \n\nFor all ages. Just drop in!\nSeating and supplies will be available on a first-come\, first-served basis. Questions? E-mail Stephanie at nil@bcplib.org or Kirsten at nilassistant@bcplib.org. \nPsst… Stay tuned to our social media to discover the sharktastic photo-ops\, displays\, and activities happening at our other locations this August!
URL:https://bcplib.org/event/shark-weeks-sharknado/
LOCATION:Nichols Branch\, 10729 Highway 44 West\, West Point\, KY\, 40177\, United States
CATEGORIES:Adults,Teens,Tweens,Kids,Family
ORGANIZER;CN="Stephanie%20S.":MAILTO:nil@bcplib.org
GEO:38.0142396;-85.8852196
X-APPLE-STRUCTURED-LOCATION;VALUE=URI;X-ADDRESS=Nichols Branch 10729 Highway 44 West West Point KY 40177 United States;X-APPLE-RADIUS=500;X-TITLE=10729 Highway 44 West:geo:-85.8852196,38.0142396
END:VEVENT
END:VCALENDAR