BEGIN:VCALENDAR
VERSION:2.0
PRODID:-//Bullitt County Public Library - ECPv5.16.4//NONSGML v1.0//EN
CALSCALE:GREGORIAN
METHOD:PUBLISH
X-WR-CALNAME:Bullitt County Public Library
X-ORIGINAL-URL:https://bcplib.org
X-WR-CALDESC:Events for Bullitt County Public Library
BEGIN:VTIMEZONE
TZID:America/Kentucky/Louisville
BEGIN:DAYLIGHT
TZOFFSETFROM:-0500
TZOFFSETTO:-0400
TZNAME:EDT
DTSTART:20180311T070000
END:DAYLIGHT
BEGIN:STANDARD
TZOFFSETFROM:-0400
TZOFFSETTO:-0500
TZNAME:EST
DTSTART:20181104T060000
END:STANDARD
END:VTIMEZONE
BEGIN:VEVENT
DTSTART;TZID=America/Kentucky/Louisville:20180813T160000
DTEND;TZID=America/Kentucky/Louisville:20180813T190000
DTSTAMP:20260424T103223
CREATED:20180723T141739Z
LAST-MODIFIED:20180723T142655Z
UID:33822-1534176000-1534186800@bcplib.org
SUMMARY:Shark Weeks: Shark Tooth Necklace
DESCRIPTION:Join us every Monday in August for AWESOME shark-related crafts and projects!\nPLUS drop in anytime from August 6th–September 1st to visit our Shark Selfie Station and complete fun\, weekly activities for a chance to win a model of a shark’s jaws! \nThis week\, you can create your very own shark tooth necklace using clay\, a mold\, and cord. \nWhile you’re at the library\, be sure to take part in the Fun Shark Facts game for your chance to win the paintable model of a shark’s jaws. \n\nSHARK WEEKS SCHEDULE: \nWEEK 1: August 6th–11th\nDrop-in Project: Shark Sensory Bottles | Monday\, August 6th @4:00–7:00 PM\nWeekly Challenge: Shark ID \nWEEK 2: August 13th–18th\nDrop-in Project: Shark Tooth Necklace | Monday\, August 13th @4:00–7:00 PM\nWeekly Challenge: Fun Shark Facts \nWEEK 3: August 20th–25th\nDrop-in Project: Shark Teeth Beachcombing | Monday\, August 20th @4:00–7:00 PM\nWeekly Challenge: Shark Seek and Find \nWEEK 4: August 27th–September 1st\nDrop-in Project: Shark Scratch Art | Monday\, August 27th @4:00–7:00 PM\nWeekly Challenge: How Many Sharks? \n\nFor all ages. Just drop in!\nSeating will be available on a first-come\, first-served basis. Questions? E-mail mike@bcplib.org. \nSUPPLIES ARE LIMITED.
URL:https://bcplib.org/event/shark-weeks-shark-tooth-necklace/
LOCATION:Hillview Branch\, 155 Terry Boulevard\, Hillview\, KY\, 40229\, United States
CATEGORIES:Adults,Teens,Tweens,Kids,Family
ORGANIZER;CN="Mike":MAILTO:mike@bcplib.org
GEO:38.077247;-85.688966
X-APPLE-STRUCTURED-LOCATION;VALUE=URI;X-ADDRESS=Hillview Branch 155 Terry Boulevard Hillview KY 40229 United States;X-APPLE-RADIUS=500;X-TITLE=155 Terry Boulevard:geo:-85.688966,38.077247
END:VEVENT
END:VCALENDAR