BEGIN:VCALENDAR
VERSION:2.0
PRODID:-//Bullitt County Public Library - ECPv5.16.4//NONSGML v1.0//EN
CALSCALE:GREGORIAN
METHOD:PUBLISH
X-WR-CALNAME:Bullitt County Public Library
X-ORIGINAL-URL:https://bcplib.org
X-WR-CALDESC:Events for Bullitt County Public Library
BEGIN:VTIMEZONE
TZID:America/Kentucky/Louisville
BEGIN:DAYLIGHT
TZOFFSETFROM:-0500
TZOFFSETTO:-0400
TZNAME:EDT
DTSTART:20190310T070000
END:DAYLIGHT
BEGIN:STANDARD
TZOFFSETFROM:-0400
TZOFFSETTO:-0500
TZNAME:EST
DTSTART:20191103T060000
END:STANDARD
END:VTIMEZONE
BEGIN:VEVENT
DTSTART;TZID=America/Kentucky/Louisville:20190821T170000
DTEND;TZID=America/Kentucky/Louisville:20190821T190000
DTSTAMP:20260423T012531
CREATED:20190711T142455Z
LAST-MODIFIED:20190711T143909Z
UID:60481-1566406800-1566414000@bcplib.org
SUMMARY:Shark Weeks: Shark Banks
DESCRIPTION:Join us every Wednesday in August for AWESOME shark-related crafts and projects!\nPLUS drop in anytime from August 1st–August 31st to visit our Shark Selfie Station and complete fun\, weekly activities for a chance to win a sharktastic 3D-printed item! \nThis week\, you can decorate your very own ceramic shark piggy bank using paints and markers. Make your shark bank as realistic or as colorful as you like! \nPsst… While you’re at the library\, be sure to take part in the How many sharks? game for your chance to win the 3D-printed shark item. \n\nSHARK WEEKS SCHEDULE: \nWEEK 1 (+bonus days): August 1st–10th\nDrop-in Project: Shark Sensory Bottles | Wednesday\, August 7th @5:00–7:00 PM\nWeekly Challenge: Shark & Find \nWEEK 2: August 12th–17th\nDrop-in Project: Shark Scratch Art | Wednesday\, August 14th @5:00–7:00 PM\nWeekly Challenge: Shark ID \nWEEK 3: August 19th–24th\nDrop-in Project: Shark Banks | Wednesday\, August 21st @5:00–7:00 PM\nWeekly Challenge: How Many Sharks? \nWEEK 4: August 26th–31st\nDrop-in Project: Shark Tooth Dig | Wednesday\, August 28th @5:00–7:00 PM\nWeekly Challenge: Shark Facts \n\nFor all ages. Just drop in!\nSeating will be available on a first-come\, first-served basis. Questions? E-mail mike@bcplib.org. \nSUPPLIES ARE LIMITED.
URL:https://bcplib.org/event/shark-weeks-shark-banks-hl/
LOCATION:Hillview Branch\, 155 Terry Boulevard\, Hillview\, KY\, 40229\, United States
CATEGORIES:Adults,Teens,Tweens,Kids,Family
ORGANIZER;CN="Mike":MAILTO:mike@bcplib.org
GEO:38.077247;-85.688966
X-APPLE-STRUCTURED-LOCATION;VALUE=URI;X-ADDRESS=Hillview Branch 155 Terry Boulevard Hillview KY 40229 United States;X-APPLE-RADIUS=500;X-TITLE=155 Terry Boulevard:geo:-85.688966,38.077247
END:VEVENT
END:VCALENDAR