BEGIN:VCALENDAR
VERSION:2.0
PRODID:-//Bullitt County Public Library - ECPv5.16.4//NONSGML v1.0//EN
CALSCALE:GREGORIAN
METHOD:PUBLISH
X-WR-CALNAME:Bullitt County Public Library
X-ORIGINAL-URL:https://bcplib.org
X-WR-CALDESC:Events for Bullitt County Public Library
BEGIN:VTIMEZONE
TZID:America/Kentucky/Louisville
BEGIN:DAYLIGHT
TZOFFSETFROM:-0500
TZOFFSETTO:-0400
TZNAME:EDT
DTSTART:20200308T070000
END:DAYLIGHT
BEGIN:STANDARD
TZOFFSETFROM:-0400
TZOFFSETTO:-0500
TZNAME:EST
DTSTART:20201101T060000
END:STANDARD
END:VTIMEZONE
BEGIN:VEVENT
DTSTART;TZID=America/Kentucky/Louisville:20200407T110000
DTEND;TZID=America/Kentucky/Louisville:20200407T120000
DTSTAMP:20260423T164616
CREATED:20190621T203801Z
LAST-MODIFIED:20200330T205409Z
UID:55903-1586257200-1586260800@bcplib.org
SUMMARY:CANCELED | Sensory Stations
DESCRIPTION:Play. Explore. Investigate. \nSensational sensory fun awaits! Bring your little ones to the library to explore sensory learning. \nSensory play is designed to stimulate a young child’s senses—hearing\, seeing\, tasting\, smelling\, touching—and to create an early\, natural introduction to the scientific processes as children play and investigate. We will provide several exciting sensory stations for your child to explore while introducing you to early learning tools to benefit your child’s development. Plus\, we will provide a take-home project so you can continue the learning and fun beyond your visit! Things could get messy\, so be sure to dress appropriately. \n\nMonthly Takeaways\nDECEMBER: Ornaments\nGet festive as you create an ornament filled with glitter and bells\, designed to excite little eyes and ears! \nJANUARY: Firecracker Creation\nWith the materials we provide\, have a blast making a fun (and safe) salt firecracker. \nFEBRUARY: Valentine Sensory Bottles\nAdd glitter and heart confetti to a bottle\, creating a sensory object that can relieve anxiety or be used as a calming or time-out aid.   \nMARCH: Glow-in-the-Dark Bottles\nWith rice and glow-in-the-dark paint\, create a bottle that can be used as a fun nightlight.  \nAPRIL: DIY Playdough\nMake your own playdough from common kitchen ingredients. \nFor ages 0–4. Just drop in!\nSpace and take-home materials will be available on a first-come\, first-served basis. Questions? E-mail jillian@bcplib.org.
URL:https://bcplib.org/event/sensory-stations-lj-2020-04-07/
LOCATION:Lebanon Junction Branch\, 11382 S. Preston Highway\, Lebanon Junction\, KY\, 40150\, United States
CATEGORIES:Kids
ORGANIZER;CN="Jillian":MAILTO:jillian@bcplib.org
GEO:37.8417678;-85.7287508
X-APPLE-STRUCTURED-LOCATION;VALUE=URI;X-ADDRESS=Lebanon Junction Branch 11382 S. Preston Highway Lebanon Junction KY 40150 United States;X-APPLE-RADIUS=500;X-TITLE=11382 S. Preston Highway:geo:-85.7287508,37.8417678
END:VEVENT
END:VCALENDAR