BEGIN:VCALENDAR
VERSION:2.0
PRODID:-//Bullitt County Public Library - ECPv5.16.4//NONSGML v1.0//EN
CALSCALE:GREGORIAN
METHOD:PUBLISH
X-WR-CALNAME:Bullitt County Public Library
X-ORIGINAL-URL:https://bcplib.org
X-WR-CALDESC:Events for Bullitt County Public Library
BEGIN:VTIMEZONE
TZID:America/Kentucky/Louisville
BEGIN:DAYLIGHT
TZOFFSETFROM:-0500
TZOFFSETTO:-0400
TZNAME:EDT
DTSTART:20220313T070000
END:DAYLIGHT
BEGIN:STANDARD
TZOFFSETFROM:-0400
TZOFFSETTO:-0500
TZNAME:EST
DTSTART:20221106T060000
END:STANDARD
END:VTIMEZONE
BEGIN:VEVENT
DTSTART;TZID=America/Kentucky/Louisville:20220202T173000
DTEND;TZID=America/Kentucky/Louisville:20220202T190000
DTSTAMP:20260422T072222
CREATED:20220111T180034Z
LAST-MODIFIED:20220412T161446Z
UID:99312-1643823000-1643828400@bcplib.org
SUMMARY:Scrapbooking Club
DESCRIPTION:Embellish your treasured memories… \nJoin Stephanie and Cathy to turn your favorite photos into an ornate masterpiece! Use our stickers\, cardstock\, embellishments\, and more decorate your scrapbook album in a spacious and relaxing environment. Plus\, give and receive inspiration and tips—even swap supplies!—with your fellow crafters. \nPsst… Scrapbookers should bring their own photos\, scrapbook/album\, and protective sheets to get started. Enjoy hot chocolate\, water\, and cookies while you craft. \nFor ages 18 and up. Just drop in!\nSpace and materials will be available on a first-come\, first-served basis. Questions? E-mail slewis@bcplib.org.
URL:https://bcplib.org/event/scrapbooking-club/2022-02-02/
LOCATION:Hillview Branch\, 155 Terry Boulevard\, Hillview\, KY\, 40229\, United States
CATEGORIES:Adults
ORGANIZER;CN="Stephanie%20L.":MAILTO:slewis@bcplib.org
GEO:38.077247;-85.688966
X-APPLE-STRUCTURED-LOCATION;VALUE=URI;X-ADDRESS=Hillview Branch 155 Terry Boulevard Hillview KY 40229 United States;X-APPLE-RADIUS=500;X-TITLE=155 Terry Boulevard:geo:-85.688966,38.077247
END:VEVENT
END:VCALENDAR