BEGIN:VCALENDAR
VERSION:2.0
PRODID:-//Bullitt County Public Library - ECPv5.16.4//NONSGML v1.0//EN
CALSCALE:GREGORIAN
METHOD:PUBLISH
X-WR-CALNAME:Bullitt County Public Library
X-ORIGINAL-URL:https://bcplib.org
X-WR-CALDESC:Events for Bullitt County Public Library
BEGIN:VTIMEZONE
TZID:America/Kentucky/Louisville
BEGIN:DAYLIGHT
TZOFFSETFROM:-0500
TZOFFSETTO:-0400
TZNAME:EDT
DTSTART:20220313T070000
END:DAYLIGHT
BEGIN:STANDARD
TZOFFSETFROM:-0400
TZOFFSETTO:-0500
TZNAME:EST
DTSTART:20221106T060000
END:STANDARD
END:VTIMEZONE
BEGIN:VEVENT
DTSTART;TZID=America/Kentucky/Louisville:20220314T130000
DTEND;TZID=America/Kentucky/Louisville:20220314T143000
DTSTAMP:20260422T004902
CREATED:20220222T145739Z
LAST-MODIFIED:20220222T145739Z
UID:100721-1647262800-1647268200@bcplib.org
SUMMARY:School's Out! Matinee
DESCRIPTION:Heigh-ho\, heigh-ho\, it’s off from school you go… \nSchool’s out for Bullitt Day\, but we’ve got you covered with a Disney matinee fun for the whole family! Join us for a magical afternoon celebrating the 85th anniversary of Snow White and the Seven Dwarfs. \nWatch the first full-length animated Disney film that started it all\, plus enjoy free refreshments and more. \nFor all ages. Just drop in!\nSeating will be available on a first-come\, first-served basis. Questions? Call Ms. Jillian at 543-7675 ext. 2557 or e-mail jillian@bcplib.org.
URL:https://bcplib.org/event/schools-out-matinee-lj/
LOCATION:Lebanon Junction Branch\, 11382 S. Preston Highway\, Lebanon Junction\, KY\, 40150\, United States
CATEGORIES:Tweens,Kids,Family
ORGANIZER;CN="Jillian":MAILTO:jillian@bcplib.org
GEO:37.8417678;-85.7287508
X-APPLE-STRUCTURED-LOCATION;VALUE=URI;X-ADDRESS=Lebanon Junction Branch 11382 S. Preston Highway Lebanon Junction KY 40150 United States;X-APPLE-RADIUS=500;X-TITLE=11382 S. Preston Highway:geo:-85.7287508,37.8417678
END:VEVENT
END:VCALENDAR