BEGIN:VCALENDAR
VERSION:2.0
PRODID:-//Bullitt County Public Library - ECPv5.16.4//NONSGML v1.0//EN
CALSCALE:GREGORIAN
METHOD:PUBLISH
X-WR-CALNAME:Bullitt County Public Library
X-ORIGINAL-URL:https://bcplib.org
X-WR-CALDESC:Events for Bullitt County Public Library
BEGIN:VTIMEZONE
TZID:America/Kentucky/Louisville
BEGIN:DAYLIGHT
TZOFFSETFROM:-0500
TZOFFSETTO:-0400
TZNAME:EDT
DTSTART:20210314T070000
END:DAYLIGHT
BEGIN:STANDARD
TZOFFSETFROM:-0400
TZOFFSETTO:-0500
TZNAME:EST
DTSTART:20211107T060000
END:STANDARD
END:VTIMEZONE
BEGIN:VEVENT
DTSTART;TZID=America/Kentucky/Louisville:20210930T180000
DTEND;TZID=America/Kentucky/Louisville:20210930T190000
DTSTAMP:20260423T025122
CREATED:20210913T200119Z
LAST-MODIFIED:20210913T200119Z
UID:97033-1633024800-1633028400@bcplib.org
SUMMARY:Scents Your Imagination
DESCRIPTION:That smells so good… \nJoin us to create your very own room air freshener. Using mason jars\, colorful water beads\, and delightful essential oils\, create a one-of-a-kind scent that you can relax with at home. \nPsst…Supplies are limited and will be available on a first-come\, first-served basis!\n\nFor all ages. Just drop in!\nSeating will be available on a first-come\, first-served basis. Questions? E-mail angel@bcplib.org.
URL:https://bcplib.org/event/scents-mw/
LOCATION:Mt. Washington Branch\, 214 N. Bardstown Road\, Mt. Washington\, KY\, 40047\, United States
CATEGORIES:Adults,Teens,Tweens
ORGANIZER;CN="Angel":MAILTO:angel@bcplib.org
GEO:38.0492119;-85.5430434
X-APPLE-STRUCTURED-LOCATION;VALUE=URI;X-ADDRESS=Mt. Washington Branch 214 N. Bardstown Road Mt. Washington KY 40047 United States;X-APPLE-RADIUS=500;X-TITLE=214 N. Bardstown Road:geo:-85.5430434,38.0492119
END:VEVENT
END:VCALENDAR