BEGIN:VCALENDAR
VERSION:2.0
PRODID:-//Bullitt County Public Library - ECPv5.16.4//NONSGML v1.0//EN
CALSCALE:GREGORIAN
METHOD:PUBLISH
X-WR-CALNAME:Bullitt County Public Library
X-ORIGINAL-URL:https://bcplib.org
X-WR-CALDESC:Events for Bullitt County Public Library
BEGIN:VTIMEZONE
TZID:America/Kentucky/Louisville
BEGIN:DAYLIGHT
TZOFFSETFROM:-0500
TZOFFSETTO:-0400
TZNAME:EDT
DTSTART:20190310T070000
END:DAYLIGHT
BEGIN:STANDARD
TZOFFSETFROM:-0400
TZOFFSETTO:-0500
TZNAME:EST
DTSTART:20191103T060000
END:STANDARD
END:VTIMEZONE
BEGIN:VEVENT
DTSTART;TZID=America/Kentucky/Louisville:20190204T180000
DTEND;TZID=America/Kentucky/Louisville:20190204T190000
DTSTAMP:20260423T004048
CREATED:20181206T152721Z
LAST-MODIFIED:20181206T152840Z
UID:42760-1549303200-1549306800@bcplib.org
SUMMARY:Say It with Love
DESCRIPTION:Brighten someone’s day with a handmade Valentine’s card! \nBCPL is spreading kindness—and you can help! Use your creativity and your compassion to create a special Valentine’s card\, and our Outreach team will distribute the cards throughout the community to those who need a smile. \nFor all ages.\nRegistration is required for a select number of reserved seats. Additional seating will be available on a first-come\, first-served basis. Questions? E-mail angel@bcplib.org.
URL:https://bcplib.org/event/say-it-with-love-mw/
LOCATION:Mt. Washington Branch\, 214 N. Bardstown Road\, Mt. Washington\, KY\, 40047\, United States
CATEGORIES:Adults,Teens,Tweens,Kids,Family
ORGANIZER;CN="Angel":MAILTO:angel@bcplib.org
GEO:38.0492119;-85.5430434
X-APPLE-STRUCTURED-LOCATION;VALUE=URI;X-ADDRESS=Mt. Washington Branch 214 N. Bardstown Road Mt. Washington KY 40047 United States;X-APPLE-RADIUS=500;X-TITLE=214 N. Bardstown Road:geo:-85.5430434,38.0492119
END:VEVENT
END:VCALENDAR