BEGIN:VCALENDAR
VERSION:2.0
PRODID:-//Bullitt County Public Library - ECPv5.16.4//NONSGML v1.0//EN
CALSCALE:GREGORIAN
METHOD:PUBLISH
X-WR-CALNAME:Bullitt County Public Library
X-ORIGINAL-URL:https://bcplib.org
X-WR-CALDESC:Events for Bullitt County Public Library
BEGIN:VTIMEZONE
TZID:America/Kentucky/Louisville
BEGIN:DAYLIGHT
TZOFFSETFROM:-0500
TZOFFSETTO:-0400
TZNAME:EDT
DTSTART:20180311T070000
END:DAYLIGHT
BEGIN:STANDARD
TZOFFSETFROM:-0400
TZOFFSETTO:-0500
TZNAME:EST
DTSTART:20181104T060000
END:STANDARD
END:VTIMEZONE
BEGIN:VEVENT
DTSTART;TZID=America/Kentucky/Louisville:20180212T180000
DTEND;TZID=America/Kentucky/Louisville:20180212T190000
DTSTAMP:20260422T131430
CREATED:20180109T150403Z
LAST-MODIFIED:20180109T150403Z
UID:23563-1518458400-1518462000@bcplib.org
SUMMARY:Say It with Love
DESCRIPTION:Brighten someone’s day with a handmade Valentine’s card! \nYou make the card\, and our Outreach team will distribute them throughout the community to those who need a smile. \nFor ages 5–12. Registration is required for a select number of reserved seats. Additional seating will be available on a first-come\, first-served basis.\nQuestions or comments? Call Brandy at 543-7675 ext. 2555\, or e-mail brandy@bcplib.org.
URL:https://bcplib.org/event/say-it-with-love-lj/
LOCATION:Lebanon Junction Branch\, 11382 S. Preston Highway\, Lebanon Junction\, KY\, 40150\, United States
CATEGORIES:Tweens,Kids
GEO:37.8417678;-85.7287508
X-APPLE-STRUCTURED-LOCATION;VALUE=URI;X-ADDRESS=Lebanon Junction Branch 11382 S. Preston Highway Lebanon Junction KY 40150 United States;X-APPLE-RADIUS=500;X-TITLE=11382 S. Preston Highway:geo:-85.7287508,37.8417678
END:VEVENT
END:VCALENDAR