BEGIN:VCALENDAR
VERSION:2.0
PRODID:-//Bullitt County Public Library - ECPv5.16.4//NONSGML v1.0//EN
CALSCALE:GREGORIAN
METHOD:PUBLISH
X-WR-CALNAME:Bullitt County Public Library
X-ORIGINAL-URL:https://bcplib.org
X-WR-CALDESC:Events for Bullitt County Public Library
BEGIN:VTIMEZONE
TZID:America/Kentucky/Louisville
BEGIN:DAYLIGHT
TZOFFSETFROM:-0500
TZOFFSETTO:-0400
TZNAME:EDT
DTSTART:20200308T070000
END:DAYLIGHT
BEGIN:STANDARD
TZOFFSETFROM:-0400
TZOFFSETTO:-0500
TZNAME:EST
DTSTART:20201101T060000
END:STANDARD
END:VTIMEZONE
BEGIN:VEVENT
DTSTART;TZID=America/Kentucky/Louisville:20200220T160000
DTEND;TZID=America/Kentucky/Louisville:20200220T180000
DTSTAMP:20260424T035022
CREATED:20191226T183522Z
LAST-MODIFIED:20200124T154223Z
UID:71405-1582214400-1582221600@bcplib.org
SUMMARY:Robots at the Library!
DESCRIPTION:Beep-bloop-blop-bleep-boop… It’s a robot invasion! \nRobots are taking over the library\, and we need YOU to help us explore\, play\, and experiment with a variety of robots and their uniquely-special features. Learn robotics\, programming\, and engineering skills while you experiment with looping and programming sequences to control lights\, movements\, and sounds. Tinker with robots controlled by remote\, and meet some cool little guys who respond to voice commands. Plus\, become a robotics engineer when you create your own robot with Cubelets or try out our new robot that is 12 robots in one! \nFor ages 12–18. Just drop in!\nSeating will be available on a first-come\, first-served basis. Questions? Call 543-7675 ext. 2001.
URL:https://bcplib.org/event/robots-at-the-library-rm/
LOCATION:Ridgway Memorial Library\, 127 N. Walnut Street\, Shepherdsville\, KY\, 40165\, United States
CATEGORIES:Teens
GEO:38.001133520394;-85.706045160467
X-APPLE-STRUCTURED-LOCATION;VALUE=URI;X-ADDRESS=Ridgway Memorial Library 127 N. Walnut Street Shepherdsville KY 40165 United States;X-APPLE-RADIUS=500;X-TITLE=127 N. Walnut Street:geo:-85.706045160467,38.001133520394
END:VEVENT
END:VCALENDAR