BEGIN:VCALENDAR
VERSION:2.0
PRODID:-//Bullitt County Public Library - ECPv5.16.4//NONSGML v1.0//EN
CALSCALE:GREGORIAN
METHOD:PUBLISH
X-WR-CALNAME:Bullitt County Public Library
X-ORIGINAL-URL:https://bcplib.org
X-WR-CALDESC:Events for Bullitt County Public Library
BEGIN:VTIMEZONE
TZID:America/Kentucky/Louisville
BEGIN:DAYLIGHT
TZOFFSETFROM:-0500
TZOFFSETTO:-0400
TZNAME:EDT
DTSTART:20190310T070000
END:DAYLIGHT
BEGIN:STANDARD
TZOFFSETFROM:-0400
TZOFFSETTO:-0500
TZNAME:EST
DTSTART:20191103T060000
END:STANDARD
END:VTIMEZONE
BEGIN:VEVENT
DTSTART;TZID=America/Kentucky/Louisville:20190103T160000
DTEND;TZID=America/Kentucky/Louisville:20190103T190000
DTSTAMP:20260422T001959
CREATED:20180424T163445Z
LAST-MODIFIED:20181119T230401Z
UID:37913-1546531200-1546542000@bcplib.org
SUMMARY:Random Fandom Gaming Night: UNO Tournament
DESCRIPTION:Celebrate the fandom within you! \nCalling all fandoms! Join us on the first Thursday of the month to hang out\, relax\, and meet new friends who obsess over the same game\, TV show\, YouTube creator\, singer\, or book series you do. From themed break-out challenges to movie marathons and cosplay\, tweens and teens can enjoy new activities and explore a new fandom each month. A wide variety of video games\, tabletop games\, and card games will also be available—plus karaoke\, BCPL laptop access\, and more! We’ll also have drinks and snacks if you just want to chill and talk to your friends. \nFor middle & high school ages.\nJust drop in! Seating will be available on a first-come\, first-served basis. Questions? E-mail steven@bcplib.org. \n\nUpcoming special topics include:\nDECEMBER 6th: Magic the Gathering Tournament (@Ridgway Memorial only*)\nAre you a fan of Magic the Gathering? Do you think you are a master of the game? We challenge you to compete in our unofficial standard tournament! Bring your deck and tap in—the player with the most points at the end of the night wins. High school ages only.\n*A variety of other games and activities will be offered at our Hillview and Mt. Washington locations. \nJANUARY 3rd: UNO Tournament\nSkip over to the library and go WILD in our UNO Tournament! Players will compete in small groups for a chance to win a selection of prizes. \n 
URL:https://bcplib.org/event/randomfandom-rm-2019-01-03/
LOCATION:Ridgway Memorial Library\, 127 N. Walnut Street\, Shepherdsville\, KY\, 40165\, United States
CATEGORIES:Teens,Tweens
ORGANIZER;CN="Steven":MAILTO:steven@bcplib.org
GEO:38.001133520394;-85.706045160467
X-APPLE-STRUCTURED-LOCATION;VALUE=URI;X-ADDRESS=Ridgway Memorial Library 127 N. Walnut Street Shepherdsville KY 40165 United States;X-APPLE-RADIUS=500;X-TITLE=127 N. Walnut Street:geo:-85.706045160467,38.001133520394
END:VEVENT
END:VCALENDAR