BEGIN:VCALENDAR
VERSION:2.0
PRODID:-//Bullitt County Public Library - ECPv5.16.4//NONSGML v1.0//EN
CALSCALE:GREGORIAN
METHOD:PUBLISH
X-WR-CALNAME:Bullitt County Public Library
X-ORIGINAL-URL:https://bcplib.org
X-WR-CALDESC:Events for Bullitt County Public Library
BEGIN:VTIMEZONE
TZID:America/Kentucky/Louisville
BEGIN:DAYLIGHT
TZOFFSETFROM:-0500
TZOFFSETTO:-0400
TZNAME:EDT
DTSTART:20180311T070000
END:DAYLIGHT
BEGIN:STANDARD
TZOFFSETFROM:-0400
TZOFFSETTO:-0500
TZNAME:EST
DTSTART:20181104T060000
END:STANDARD
END:VTIMEZONE
BEGIN:VEVENT
DTSTART;TZID=America/Kentucky/Louisville:20180308T160000
DTEND;TZID=America/Kentucky/Louisville:20180308T180000
DTSTAMP:20260424T032617
CREATED:20180222T200715Z
LAST-MODIFIED:20180223T162126Z
UID:25592-1520524800-1520532000@bcplib.org
SUMMARY:Pop-Up Makerspace
DESCRIPTION:Drop in to make and create with our 3D printer\, Snap Circuits\, Brain Flakes\, and more! \nPlus\, play and experiment with a variety of software—including Happy 3D (3d design)\, Roblox (game development)\, and Audacity (podcasting)—on our library gaming laptops. \nJust drop in!\nSeating available on a first-come\, first-served basis. Questions? E-mail gayle@bcplib.org.
URL:https://bcplib.org/event/pop-up-makerspace/
LOCATION:Lebanon Junction Branch\, 11382 S. Preston Highway\, Lebanon Junction\, KY\, 40150\, United States
CATEGORIES:Teens,Tweens
ORGANIZER;CN="Gayle":MAILTO:gayle@bcplib.org
GEO:37.8417678;-85.7287508
X-APPLE-STRUCTURED-LOCATION;VALUE=URI;X-ADDRESS=Lebanon Junction Branch 11382 S. Preston Highway Lebanon Junction KY 40150 United States;X-APPLE-RADIUS=500;X-TITLE=11382 S. Preston Highway:geo:-85.7287508,37.8417678
END:VEVENT
END:VCALENDAR