BEGIN:VCALENDAR
VERSION:2.0
PRODID:-//Bullitt County Public Library - ECPv5.16.4//NONSGML v1.0//EN
CALSCALE:GREGORIAN
METHOD:PUBLISH
X-WR-CALNAME:Bullitt County Public Library
X-ORIGINAL-URL:https://bcplib.org
X-WR-CALDESC:Events for Bullitt County Public Library
BEGIN:VTIMEZONE
TZID:America/Kentucky/Louisville
BEGIN:DAYLIGHT
TZOFFSETFROM:-0500
TZOFFSETTO:-0400
TZNAME:EDT
DTSTART:20210314T070000
END:DAYLIGHT
BEGIN:STANDARD
TZOFFSETFROM:-0400
TZOFFSETTO:-0500
TZNAME:EST
DTSTART:20211107T060000
END:STANDARD
END:VTIMEZONE
BEGIN:VEVENT
DTSTART;TZID=America/Kentucky/Louisville:20210611T143000
DTEND;TZID=America/Kentucky/Louisville:20210611T153000
DTSTAMP:20260423T084935
CREATED:20210511T214750Z
LAST-MODIFIED:20210511T215123Z
UID:93396-1623421800-1623425400@bcplib.org
SUMMARY:Pollinators
DESCRIPTION:“The hum of bees is the voice of a garden.”  –Elizabeth Lawrence\n\nDiscover what all the buzz is about with local pollinators! Kiddos can plant pollinator-friendly plants in a mini greenhouse while teens and adults can learn how to identify different flowers and pollens with County Extension Agent Lorilee Kunze. Plus\, remember to check out the pollinator garden and bee boxes in the backyard! \n\nBzzz… Did you know? Bees\, butterflies\, and other pollinators are essential to cross-pollination\, which contributes to the success of many crops and to wild plants’ ability to thrive. Without the spread of pollen\, many plants would die off.\n\nFor all ages. \nRegistration is required for a select number of reserved seats. Additional seating will be available on a first-come\, first-served basis. Questions? E-mail Stephanie at nil@bcplib.org.
URL:https://bcplib.org/event/pollinators/
LOCATION:Nichols Branch\, 10729 Highway 44 West\, West Point\, KY\, 40177\, United States
CATEGORIES:Adults,Teens,Tweens,Kids,Family
ORGANIZER;CN="Stephanie%20S.":MAILTO:nil@bcplib.org
GEO:38.0142396;-85.8852196
X-APPLE-STRUCTURED-LOCATION;VALUE=URI;X-ADDRESS=Nichols Branch 10729 Highway 44 West West Point KY 40177 United States;X-APPLE-RADIUS=500;X-TITLE=10729 Highway 44 West:geo:-85.8852196,38.0142396
END:VEVENT
END:VCALENDAR