BEGIN:VCALENDAR
VERSION:2.0
PRODID:-//Bullitt County Public Library - ECPv5.16.4//NONSGML v1.0//EN
CALSCALE:GREGORIAN
METHOD:PUBLISH
X-WR-CALNAME:Bullitt County Public Library
X-ORIGINAL-URL:https://bcplib.org
X-WR-CALDESC:Events for Bullitt County Public Library
BEGIN:VTIMEZONE
TZID:America/Kentucky/Louisville
BEGIN:DAYLIGHT
TZOFFSETFROM:-0500
TZOFFSETTO:-0400
TZNAME:EDT
DTSTART:20220313T070000
END:DAYLIGHT
BEGIN:STANDARD
TZOFFSETFROM:-0400
TZOFFSETTO:-0500
TZNAME:EST
DTSTART:20221106T060000
END:STANDARD
END:VTIMEZONE
BEGIN:VEVENT
DTSTART;TZID=America/Kentucky/Louisville:20220406T140000
DTEND;TZID=America/Kentucky/Louisville:20220406T150000
DTSTAMP:20260422T063442
CREATED:20220308T214001Z
LAST-MODIFIED:20220308T214001Z
UID:101155-1649253600-1649257200@bcplib.org
SUMMARY:Pajamas and Peeps\, Oh My!
DESCRIPTION:Wear your pajamas and bring all of your “peeps”… \nJoin us for a special Spring Break storytime made for all things Peeps. Listen to the wacky tale Peeps in Pajamas\, then make your own squishy Peeps playdough to keep! Plus\, paint your own Peeps Family Portrait! \nFor children of all ages. Just drop in!\nSpace and materials will be available on a first-come\, first-served basis. Questions? Call Ms. Laura at 543-7675 ext. 2554 or e-mail laura@bcplib.org.
URL:https://bcplib.org/event/pjs-and-peeps-rm/
LOCATION:Ridgway Memorial Library\, 127 N. Walnut Street\, Shepherdsville\, KY\, 40165\, United States
CATEGORIES:Tweens,Kids
GEO:38.001133520394;-85.706045160467
X-APPLE-STRUCTURED-LOCATION;VALUE=URI;X-ADDRESS=Ridgway Memorial Library 127 N. Walnut Street Shepherdsville KY 40165 United States;X-APPLE-RADIUS=500;X-TITLE=127 N. Walnut Street:geo:-85.706045160467,38.001133520394
END:VEVENT
END:VCALENDAR