BEGIN:VCALENDAR
VERSION:2.0
PRODID:-//Bullitt County Public Library - ECPv5.16.4//NONSGML v1.0//EN
CALSCALE:GREGORIAN
METHOD:PUBLISH
X-WR-CALNAME:Bullitt County Public Library
X-ORIGINAL-URL:https://bcplib.org
X-WR-CALDESC:Events for Bullitt County Public Library
BEGIN:VTIMEZONE
TZID:America/Kentucky/Louisville
BEGIN:DAYLIGHT
TZOFFSETFROM:-0500
TZOFFSETTO:-0400
TZNAME:EDT
DTSTART:20210314T070000
END:DAYLIGHT
BEGIN:STANDARD
TZOFFSETFROM:-0400
TZOFFSETTO:-0500
TZNAME:EST
DTSTART:20211107T060000
END:STANDARD
END:VTIMEZONE
BEGIN:VEVENT
DTSTART;TZID=America/Kentucky/Louisville:20210913T180000
DTEND;TZID=America/Kentucky/Louisville:20210913T190000
DTSTAMP:20260423T050450
CREATED:20210727T185346Z
LAST-MODIFIED:20210910T182852Z
UID:94489-1631556000-1631559600@bcplib.org
SUMMARY:Pirate Party
DESCRIPTION:Yo-ho-ho! Come party like a pirate! \nPut yer swashbuckler skills to the test as we learn to talk like a pirate and create our very own pirate flags and treasure maps. Plus\, haul in some pirate gear and get captured in our photo booth. Be prepared to walk the book! \nFor children of all ages. Just drop in!\nSpace and materials will be available on a first-come\, first-served basis. Questions? E-mail angel@bcplib.org.
URL:https://bcplib.org/event/pirate-party-mw2021/
LOCATION:Mt. Washington Branch\, 214 N. Bardstown Road\, Mt. Washington\, KY\, 40047\, United States
CATEGORIES:Kids
ORGANIZER;CN="Angel":MAILTO:angel@bcplib.org
GEO:38.0492119;-85.5430434
X-APPLE-STRUCTURED-LOCATION;VALUE=URI;X-ADDRESS=Mt. Washington Branch 214 N. Bardstown Road Mt. Washington KY 40047 United States;X-APPLE-RADIUS=500;X-TITLE=214 N. Bardstown Road:geo:-85.5430434,38.0492119
END:VEVENT
END:VCALENDAR