BEGIN:VCALENDAR
VERSION:2.0
PRODID:-//Bullitt County Public Library - ECPv5.16.4//NONSGML v1.0//EN
CALSCALE:GREGORIAN
METHOD:PUBLISH
X-WR-CALNAME:Bullitt County Public Library
X-ORIGINAL-URL:https://bcplib.org
X-WR-CALDESC:Events for Bullitt County Public Library
BEGIN:VTIMEZONE
TZID:America/Kentucky/Louisville
BEGIN:DAYLIGHT
TZOFFSETFROM:-0500
TZOFFSETTO:-0400
TZNAME:EDT
DTSTART:20180311T070000
END:DAYLIGHT
BEGIN:STANDARD
TZOFFSETFROM:-0400
TZOFFSETTO:-0500
TZNAME:EST
DTSTART:20181104T060000
END:STANDARD
END:VTIMEZONE
BEGIN:VEVENT
DTSTART;TZID=America/Kentucky/Louisville:20180328T180000
DTEND;TZID=America/Kentucky/Louisville:20180328T190000
DTSTAMP:20260423T105513
CREATED:20180117T155438Z
LAST-MODIFIED:20180117T170207Z
UID:23653-1522260000-1522263600@bcplib.org
SUMMARY:Pinterest Wars: This Challenge Is LIT
DESCRIPTION:The competition is lighting up! \nTest your inner crafter by battling through Pinterest Wars! In this four-part series\, we’ll recreate popular Pinterest crafts with a twist—when we’re done\, you’ll keep your craft\, and our Facebook fans will vote on who made it best! The winner of each fan vote will receive an awesome prize. \nShow off your craft skills as we decorate light switch plates. We’ll post the entries on Facebook for votes\, and the winner will take home a light bulb that has the ability to change colors with a push of a button and also connects to Bluetooth to become a speaker! \nFor ages 5–12. Registration is required for a select number of reserved seats. \nQuestions or comments? Call Brandy at 543-7675 ext. 2555\, or e-mail brandy@bcplib.org.
URL:https://bcplib.org/event/pinterest-wars-challenge-lit/
LOCATION:Ridgway Memorial Library\, 127 N. Walnut Street\, Shepherdsville\, KY\, 40165\, United States
CATEGORIES:Tweens,Kids
GEO:38.001133520394;-85.706045160467
X-APPLE-STRUCTURED-LOCATION;VALUE=URI;X-ADDRESS=Ridgway Memorial Library 127 N. Walnut Street Shepherdsville KY 40165 United States;X-APPLE-RADIUS=500;X-TITLE=127 N. Walnut Street:geo:-85.706045160467,38.001133520394
END:VEVENT
END:VCALENDAR